{"text_format":"1","workbook":"xlsx","n_sheets":36,"sheets":["Mapa","CE 1","CE 2","CE 3","CE 4","CE 5","CE 6","CE 7","CE 8","CE 9","CE 10","CE 11","CE 12","CE 13","CE 14","M1","M2","M3","M4","M5","M6","M7","M8","M9","M10","M11","M12","M13","M14","M15","M16","M17","M18","M19","M20","Capacidades"],"not_rendered":{"charts":0,"images":58,"macros":1,"external_links":0,"defined_names":85,"comments":0,"pivot_tables":0},"unopened":[],"bounds":{"document_bytes":16777216,"sheet_cells":100000,"rows_first":2000,"rows_last":500,"rows_between":2000,"halvings":0,"cell_chars":16384,"cell_head_chars":4096},"cells_cut":0,"cells_raw":0,"read":"whole","date_system":"1900"}

{"sheet":"Mapa","index":0,"n_rows":32,"n_cols":7,"rows_kept":32,"cut":false,"hidden":false,"merged":[[0,1,0,3],[21,1,21,3],[23,1,23,3],[1,1,2,6],[3,5,3,6],[5,3,18,3]]}
[null,"Instituto Nacional de Aprendizaje\nGestión de Formación y Servicios Tecnológicos ",null,null,null,null,"FR GFST 117\nEdición 03\n24/03/2026"]
[null,"MAPA DE LA CUALIFICACIÓN"]
[]
[null,"CUALIFICACIÓN",null,"COMPETENCIA GENERAL",null,"COMPETENCIAS ESPECÍFICAS (CE)"]
[null,"Código:"]
[null,"dfs",null,null,null,1]
[null,"Nombre:"]
[null,null,null,null,null,2]
[null,"Nivel:"]
[null,null,null,null,null,3]
[null,"Nombre del Programa:"]
[null,null,null,null,null,4]
[]
[null,null,null,null,null,5]
[]
[null,null,null,null,null,6]
[]
[null,"Cantidad Módulos:",null,null,null,7]
[null,1]
[null,null,null,null,null,8]
[]
[null,null,null,null,null,9]
[]
[null,null,null,null,null,10]
[]
[null,null,null,null,null,11]
[]
[null,null,null,null,null,12]
[]
[null,null,null,null,null,13]
[]
[null,null,null,null,null,14]

{"sheet":"CE 1","index":1,"n_rows":215,"n_cols":24,"rows_kept":215,"cut":false,"hidden":false,"merged":[[220,4,220,13],[178,1,183,1],[178,2,183,2],[184,1,189,1],[184,2,189,2],[190,1,195,1],[190,2,195,2],[220,1,220,3],[160,1,165,1],[160,2,165,2],[214,1,219,1],[214,2,219,2],[208,1,213,1],[208,2,213,2],[196,1,201,1],[196,2,201,2],[202,1,207,1],[202,2,207,2],[166,1,171,1],[166,2,171,2],[172,1,177,1],[172,2,177,2],[142,1,147,1],[142,2,147,2],[148,1,153,1],[148,2,153,2],[154,1,159,1],[154,2,159,2],[120,1,129,1],[120,2,129,2],[130,1,135,1],[130,2,135,2],[136,1,141,1],[136,2,141,2],[90,1,99,1],[90,2,99,2],[100,1,109,1],[100,2,109,2],[110,1,119,1],[110,2,119,2],[28,0,29,0],[50,1,59,1],[50,2,59,2],[60,1,69,1],[60,2,69,2],[40,2,49,2],[40,1,49,1],[30,2,39,2],[30,1,39,1],[70,1,79,1],[70,2,79,2],[80,1,89,1],[80,2,89,2],[1,1,1,3],[28,3,29,3],[28,1,29,2],[3,1,3,2],[4,1,4,2],[5,1,5,2],[6,1,6,2]]}
[]
[null,"Análisis de Estándar de Cualificación"]
[]
[null,"ESTÁNDAR DE CUALIFICACIÓN:",null,{"$f":"Mapa!#REF!","v":{"$error":"#REF!"}}]
[null,"CÓDIGO ESTÁNDAR:",null,{"$f":"Mapa!B6","v":"dfs"}]
[null,"NOMBRE DEL PROGRAMA:"]
[null,"COMPETENCIA ESPECÍFICA:  ",null,{"$f":"Mapa!G6","v":0}]
[]
[null,"ID","MÓDULOS","TIPO"]
[null,{"$f":"IF(C10<>\"\",1,\"\")","v":1},"d"]
[null,{"$f":"IF('CE 1'!$C11<>\"\",2,\"\")","v":2},"s"]
[null,{"$f":"IF('CE 1'!$C12<>\"\",3,\"\")","v":""}]
[null,{"$f":"IF('CE 1'!$C13<>\"\",4,\"\")","v":""}]
[null,{"$f":"IF('CE 1'!$C14<>\"\",5,\"\")","v":""}]
[null,{"$f":"IF('CE 1'!$C15<>\"\",6,\"\")","v":""}]
[null,{"$f":"IF('CE 1'!$C16<>\"\",7,\"\")","v":""}]
[null,{"$f":"IF('CE 1'!$C17<>\"\",8,\"\")","v":""}]
[null,{"$f":"IF('CE 1'!$C18<>\"\",9,\"\")","v":""}]
[null,{"$f":"IF('CE 1'!$C19<>\"\",10,\"\")","v":""}]
[null,{"$f":"IF('CE 1'!$C20<>\"\",11,\"\")","v":""}]
[null,{"$f":"IF('CE 1'!$C21<>\"\",12,\"\")","v":""}]
[null,{"$f":"IF('CE 1'!$C22<>\"\",13,\"\")","v":""}]
[null,{"$f":"IF('CE 1'!$C23<>\"\",14,\"\")","v":14},"segundo"]
[null,{"$f":"IF('CE 1'!$C24<>\"\",15,\"\")","v":""}]
[null,{"$f":"IF('CE 1'!$C25<>\"\",16,\"\")","v":""}]
[null,{"$f":"IF('CE 1'!$C26<>\"\",17,\"\")","v":""}]
[null,{"$f":"IF('CE 1'!$C27<>\"\",18,\"\")","v":""}]
[]
[null,"RESULTADOS DE APRENDIZAJE (RA) ",null,"CAPACIDADES PROCEDIMENTALES\n (HACER)"]
[null,null,null,null,"M1","M2","M3","M4","M5","M6","M7","M8","M9","M10","M11","M12","M13","M14","M15","M16","M17","M18","M19","M20"]
[null,1]
[]
[]
[]
[]
[]
[]
[]
[]
[]
[null,2]
[]
[]
[]
[]
[]
[]
[]
[]
[]
[null,3]
[]
[]
[]
[]
[]
[]
[]
[]
[]
[null,4]
[]
[]
[]
[]
[]
[]
[]
[]
[]
[null,5]
[]
[]
[]
[]
[]
[]
[]
[]
[]
[null,6]
[]
[]
[]
[]
[]
[]
[]
[]
[]
[null,7]
[]
[]
[]
[]
[]
[]
[]
[]
[]
[null,8]
[]
[]
[]
[]
[]
[]
[]
[]
[]
[null,9]
[]
[]
[]
[]
[]
[]
[]
[]
[]
[null,10]
[]
[]
[]
[]
[]
[]
[]
[]
[]
[null,11]
[]
[]
[]
[]
[]
[null,12]
[]
[]
[]
[]
[]
[null,13]
[]
[]
[]
[]
[]
[null,14]
[]
[]
[]
[]
[]
[null,15]
[]
[]
[]
[]
[]
[null,16]
[]
[]
[]
[]
[]
[null,17]
[]
[]
[]
[]
[]
[null,18]
[]
[]
[]
[]
[]
[null,19]
[]
[]
[]
[]
[]
[null,20]
[]
[]
[]
[]
[]
[null,21]
[]
[]
[]
[]
[]
[null,22]
[]
[]
[]
[]
[]
[null,23]
[]
[]
[]
[]
[]
[null,24]
[]
[]
[]
[]
[]
[null,25]

{"sheet":"CE 2","index":2,"n_rows":215,"n_cols":24,"rows_kept":215,"cut":false,"hidden":true,"merged":[[28,0,29,0],[28,1,29,2],[28,3,29,3],[1,1,1,3],[3,1,3,2],[4,1,4,2],[5,1,5,2],[6,1,6,2],[30,1,39,1],[30,2,39,2],[40,1,49,1],[40,2,49,2],[50,1,59,1],[50,2,59,2],[60,1,69,1],[60,2,69,2],[70,1,79,1],[70,2,79,2],[80,1,89,1],[80,2,89,2],[90,1,99,1],[90,2,99,2],[100,1,109,1],[100,2,109,2],[110,1,119,1],[110,2,119,2],[120,1,129,1],[120,2,129,2],[130,1,135,1],[130,2,135,2],[136,1,141,1],[136,2,141,2],[142,1,147,1],[142,2,147,2],[148,1,153,1],[148,2,153,2],[154,1,159,1],[154,2,159,2],[160,1,165,1],[160,2,165,2],[166,1,171,1],[166,2,171,2],[172,1,177,1],[172,2,177,2],[178,1,183,1],[178,2,183,2],[184,1,189,1],[184,2,189,2],[190,1,195,1],[190,2,195,2],[214,1,219,1],[214,2,219,2],[220,1,220,3],[220,4,220,13],[196,1,201,1],[196,2,201,2],[202,1,207,1],[202,2,207,2],[208,1,213,1],[208,2,213,2]]}
[]
[null,"ANÁLISIS DE EC PARA DISEÑO CURRICULAR"]
[]
[null,"ESTÁNDAR DE CUALIFICACIÓN:",null,{"$f":"Mapa!#REF!","v":{"$error":"#REF!"}}]
[null,"CÓDIGO ESTÁNDAR:",null,{"$f":"Mapa!B6","v":"dfs"}]
[null,"NOMBRE DEL PROGRAMA:"]
[null,"COMPETENCIA ESPECÍFICA:  ",null,{"$f":"Mapa!G8","v":0}]
[]
[null,"ID","MÓDULOS","TIPO"]
[null,{"$f":"IF(C10<>\"\",1,\"\")","v":1},"d"]
[null,{"$f":"IF('CE 2'!$C11<>\"\",2,\"\")","v":2},"d"]
[null,{"$f":"IF('CE 2'!$C12<>\"\",3,\"\")","v":3},"e"]
[null,{"$f":"IF('CE 2'!$C13<>\"\",4,\"\")","v":""}]
[null,{"$f":"IF('CE 2'!$C14<>\"\",5,\"\")","v":""}]
[null,{"$f":"IF('CE 2'!$C15<>\"\",6,\"\")","v":""}]
[null,{"$f":"IF('CE 2'!$C16<>\"\",7,\"\")","v":""}]
[null,{"$f":"IF('CE 2'!$C17<>\"\",8,\"\")","v":""}]
[null,{"$f":"IF('CE 2'!$C18<>\"\",9,\"\")","v":""}]
[null,{"$f":"IF('CE 2'!$C19<>\"\",10,\"\")","v":""}]
[null,{"$f":"IF('CE 2'!$C20<>\"\",11,\"\")","v":""}]
[null,{"$f":"IF('CE 2'!$C21<>\"\",12,\"\")","v":""}]
[null,{"$f":"IF('CE 2'!$C22<>\"\",13,\"\")","v":""}]
[null,{"$f":"IF('CE 2'!$C23<>\"\",14,\"\")","v":""}]
[null,{"$f":"IF('CE 2'!$C24<>\"\",15,\"\")","v":""}]
[null,{"$f":"IF('CE 2'!$C25<>\"\",16,\"\")","v":""}]
[null,{"$f":"IF('CE 2'!$C26<>\"\",17,\"\")","v":""}]
[null,{"$f":"IF('CE 2'!$C27<>\"\",18,\"\")","v":""}]
[]
[null,"RESULTADOS DE APRENDIZAJE (RA) ",null,"CAPACIDADES PROCEDIMENTALES\n (HACER)"]
[null,null,null,null,"M1","M2","M3","M4","M5","M6","M7","M8","M9","M10","M11","M12","M13","M14","M15","M16","M17","M18","M19","M20"]
[null,1]
[]
[]
[]
[]
[]
[]
[]
[]
[]
[null,2]
[]
[]
[]
[]
[]
[]
[]
[]
[]
[null,3]
[]
[]
[]
[]
[]
[]
[]
[]
[]
[null,4]
[]
[]
[]
[]
[]
[]
[]
[]
[]
[null,5]
[]
[]
[]
[]
[]
[]
[]
[]
[]
[null,6]
[]
[]
[]
[]
[]
[]
[]
[]
[]
[null,7]
[]
[]
[]
[]
[]
[]
[]
[]
[]
[null,8]
[]
[]
[]
[]
[]
[]
[]
[]
[]
[null,9]
[]
[]
[]
[]
[]
[]
[]
[]
[]
[null,10]
[]
[]
[]
[]
[]
[]
[]
[]
[]
[null,11]
[]
[]
[]
[]
[]
[null,12]
[]
[]
[]
[]
[]
[null,13]
[]
[]
[]
[]
[]
[null,14]
[]
[]
[]
[]
[]
[null,15]
[]
[]
[]
[]
[]
[null,16]
[]
[]
[]
[]
[]
[null,17]
[]
[]
[]
[]
[]
[null,18]
[]
[]
[]
[]
[]
[null,19]
[]
[]
[]
[]
[]
[null,20]
[]
[]
[]
[]
[]
[null,21]
[]
[]
[]
[]
[]
[null,22]
[]
[]
[]
[]
[]
[null,23]
[]
[]
[]
[]
[]
[null,24]
[]
[]
[]
[]
[]
[null,25]

{"sheet":"CE 3","index":3,"n_rows":215,"n_cols":24,"rows_kept":215,"cut":false,"hidden":true,"merged":[[28,0,29,0],[28,1,29,2],[28,3,29,3],[1,1,1,3],[3,1,3,2],[4,1,4,2],[5,1,5,2],[6,1,6,2],[30,1,39,1],[30,2,39,2],[40,1,49,1],[40,2,49,2],[50,1,59,1],[50,2,59,2],[60,1,69,1],[60,2,69,2],[70,1,79,1],[70,2,79,2],[80,1,89,1],[80,2,89,2],[90,1,99,1],[90,2,99,2],[100,1,109,1],[100,2,109,2],[110,1,119,1],[110,2,119,2],[120,1,129,1],[120,2,129,2],[130,1,135,1],[130,2,135,2],[136,1,141,1],[136,2,141,2],[142,1,147,1],[142,2,147,2],[148,1,153,1],[148,2,153,2],[154,1,159,1],[154,2,159,2],[160,1,165,1],[160,2,165,2],[166,1,171,1],[166,2,171,2],[172,1,177,1],[172,2,177,2],[178,1,183,1],[178,2,183,2],[184,1,189,1],[184,2,189,2],[190,1,195,1],[190,2,195,2],[214,1,219,1],[214,2,219,2],[220,1,220,3],[220,4,220,13],[196,1,201,1],[196,2,201,2],[202,1,207,1],[202,2,207,2],[208,1,213,1],[208,2,213,2]]}
[]
[null,"ANÁLISIS DE EC PARA DISEÑO CURRICULAR"]
[]
[null,"ESTÁNDAR DE CUALIFICACIÓN:",null,{"$f":"Mapa!#REF!","v":{"$error":"#REF!"}}]
[null,"CÓDIGO ESTÁNDAR:",null,{"$f":"Mapa!B6","v":"dfs"}]
[null,"NOMBRE DEL PROGRAMA:"]
[null,"COMPETENCIA ESPECÍFICA:  ",null,{"$f":"Mapa!G10","v":0}]
[]
[null,"ID","MÓDULOS","TIPO"]
[null,{"$f":"IF(C10<>\"\",1,\"\")","v":1},"d"]
[null,{"$f":"IF('CE 3'!$C11<>\"\",2,\"\")","v":""}]
[null,{"$f":"IF('CE 3'!$C12<>\"\",3,\"\")","v":""}]
[null,{"$f":"IF('CE 3'!$C13<>\"\",4,\"\")","v":""}]
[null,{"$f":"IF('CE 3'!$C14<>\"\",5,\"\")","v":""}]
[null,{"$f":"IF('CE 3'!$C15<>\"\",6,\"\")","v":""}]
[null,{"$f":"IF('CE 3'!$C16<>\"\",7,\"\")","v":""}]
[null,{"$f":"IF('CE 3'!$C17<>\"\",8,\"\")","v":""}]
[null,{"$f":"IF('CE 3'!$C18<>\"\",9,\"\")","v":""}]
[null,{"$f":"IF('CE 3'!$C19<>\"\",10,\"\")","v":""}]
[null,{"$f":"IF('CE 3'!$C20<>\"\",11,\"\")","v":""}]
[null,{"$f":"IF('CE 3'!$C21<>\"\",12,\"\")","v":""}]
[null,{"$f":"IF('CE 3'!$C22<>\"\",13,\"\")","v":""}]
[]
[]
[]
[]
[]
[]
[null,"RESULTADOS DE APRENDIZAJE (RA) ",null,"CAPACIDADES PROCEDIMENTALES\n (HACER)"]
[null,null,null,null,"M1","M2","M3","M4","M5","M6","M7","M8","M9","M10","M11","M12","M13","M14","M15","M16","M17","M18","M19","M20"]
[null,1]
[]
[]
[]
[]
[]
[]
[]
[]
[]
[null,2]
[]
[]
[]
[]
[]
[]
[]
[]
[]
[null,3]
[]
[]
[]
[]
[]
[]
[]
[]
[]
[null,4]
[]
[]
[]
[]
[]
[]
[]
[]
[]
[null,5]
[]
[]
[]
[]
[]
[]
[]
[]
[]
[null,6]
[]
[]
[]
[]
[]
[]
[]
[]
[]
[null,7]
[]
[]
[]
[]
[]
[]
[]
[]
[]
[null,8]
[]
[]
[]
[]
[]
[]
[]
[]
[]
[null,9]
[]
[]
[]
[]
[]
[]
[]
[]
[]
[null,10]
[]
[]
[]
[]
[]
[]
[]
[]
[]
[null,11]
[]
[]
[]
[]
[]
[null,12]
[]
[]
[]
[]
[]
[null,13]
[]
[]
[]
[]
[]
[null,14]
[]
[]
[]
[]
[]
[null,15]
[]
[]
[]
[]
[]
[null,16]
[]
[]
[]
[]
[]
[null,17]
[]
[]
[]
[]
[]
[null,18]
[]
[]
[]
[]
[]
[null,19]
[]
[]
[]
[]
[]
[null,20]
[]
[]
[]
[]
[]
[null,21]
[]
[]
[]
[]
[]
[null,22]
[]
[]
[]
[]
[]
[null,23]
[]
[]
[]
[]
[]
[null,24]
[]
[]
[]
[]
[]
[null,25]

{"sheet":"CE 4","index":4,"n_rows":215,"n_cols":24,"rows_kept":215,"cut":false,"hidden":true,"merged":[[214,1,219,1],[214,2,219,2],[220,1,220,3],[220,4,220,13],[196,1,201,1],[196,2,201,2],[202,1,207,1],[202,2,207,2],[208,1,213,1],[208,2,213,2],[178,1,183,1],[178,2,183,2],[184,1,189,1],[184,2,189,2],[190,1,195,1],[190,2,195,2],[160,1,165,1],[160,2,165,2],[166,1,171,1],[166,2,171,2],[172,1,177,1],[172,2,177,2],[142,1,147,1],[142,2,147,2],[148,1,153,1],[148,2,153,2],[154,1,159,1],[154,2,159,2],[120,1,129,1],[120,2,129,2],[130,1,135,1],[130,2,135,2],[136,1,141,1],[136,2,141,2],[90,1,99,1],[90,2,99,2],[100,1,109,1],[100,2,109,2],[110,1,119,1],[110,2,119,2],[60,1,69,1],[60,2,69,2],[70,1,79,1],[70,2,79,2],[80,1,89,1],[80,2,89,2],[30,1,39,1],[30,2,39,2],[40,1,49,1],[40,2,49,2],[50,1,59,1],[50,2,59,2],[28,0,29,0],[28,1,29,2],[28,3,29,3],[1,1,1,3],[3,1,3,2],[4,1,4,2],[5,1,5,2],[6,1,6,2]]}
[]
[null,"ANÁLISIS DE EC PARA DISEÑO CURRICULAR"]
[]
[null,"ESTÁNDAR DE CUALIFICACIÓN:",null,{"$f":"Mapa!#REF!","v":{"$error":"#REF!"}}]
[null,"CÓDIGO ESTÁNDAR:",null,{"$f":"Mapa!B6","v":"dfs"}]
[null,"NOMBRE DEL PROGRAMA:"]
[null,"COMPETENCIA ESPECÍFICA:  ",null,{"$f":"Mapa!G12","v":0}]
[]
[null,"ID","MÓDULOS","TIPO"]
[null,{"$f":"IF(C10<>\"\",1,\"\")","v":1},"d"]
[null,{"$f":"IF('CE 4'!$C11<>\"\",2,\"\")","v":2},"s"]
[null,{"$f":"IF('CE 4'!$C12<>\"\",3,\"\")","v":""}]
[null,{"$f":"IF('CE 4'!$C13<>\"\",4,\"\")","v":""}]
[null,{"$f":"IF('CE 4'!$C14<>\"\",5,\"\")","v":""}]
[null,{"$f":"IF('CE 4'!$C15<>\"\",6,\"\")","v":""}]
[null,{"$f":"IF('CE 4'!$C16<>\"\",7,\"\")","v":""}]
[null,{"$f":"IF('CE 4'!$C17<>\"\",8,\"\")","v":""}]
[null,{"$f":"IF('CE 4'!$C18<>\"\",9,\"\")","v":""}]
[null,{"$f":"IF('CE 4'!$C19<>\"\",10,\"\")","v":""}]
[null,{"$f":"IF('CE 4'!$C20<>\"\",11,\"\")","v":""}]
[null,{"$f":"IF('CE 4'!$C21<>\"\",12,\"\")","v":""}]
[null,{"$f":"IF('CE 4'!$C22<>\"\",13,\"\")","v":""}]
[]
[]
[]
[]
[]
[]
[null,"RESULTADOS DE APRENDIZAJE (RA) ",null,"CAPACIDADES PROCEDIMENTALES\n (HACER)"]
[null,null,null,null,"M1","M2","M3","M4","M5","M6","M7","M8","M9","M10","M11","M12","M13","M14","M15","M16","M17","M18","M19","M20"]
[null,1]
[]
[]
[]
[]
[]
[]
[]
[]
[]
[null,2]
[]
[]
[]
[]
[]
[]
[]
[]
[]
[null,3]
[]
[]
[]
[]
[]
[]
[]
[]
[]
[null,4]
[]
[]
[]
[]
[]
[]
[]
[]
[]
[null,5]
[]
[]
[]
[]
[]
[]
[]
[]
[]
[null,6]
[]
[]
[]
[]
[]
[]
[]
[]
[]
[null,7]
[]
[]
[]
[]
[]
[]
[]
[]
[]
[null,8]
[]
[]
[]
[]
[]
[]
[]
[]
[]
[null,9]
[]
[]
[]
[]
[]
[]
[]
[]
[]
[null,10]
[]
[]
[]
[]
[]
[]
[]
[]
[]
[null,11]
[]
[]
[]
[]
[]
[null,12]
[]
[]
[]
[]
[]
[null,13]
[]
[]
[]
[]
[]
[null,14]
[]
[]
[]
[]
[]
[null,15]
[]
[]
[]
[]
[]
[null,16]
[]
[]
[]
[]
[]
[null,17]
[]
[]
[]
[]
[]
[null,18]
[]
[]
[]
[]
[]
[null,19]
[]
[]
[]
[]
[]
[null,20]
[]
[]
[]
[]
[]
[null,21]
[]
[]
[]
[]
[]
[null,22]
[]
[]
[]
[]
[]
[null,23]
[]
[]
[]
[]
[]
[null,24]
[]
[]
[]
[]
[]
[null,25]

{"sheet":"CE 5","index":5,"n_rows":215,"n_cols":24,"rows_kept":215,"cut":false,"hidden":true,"merged":[[214,1,219,1],[214,2,219,2],[220,1,220,3],[220,4,220,13],[196,1,201,1],[196,2,201,2],[202,1,207,1],[202,2,207,2],[208,1,213,1],[208,2,213,2],[178,1,183,1],[178,2,183,2],[184,1,189,1],[184,2,189,2],[190,1,195,1],[190,2,195,2],[160,1,165,1],[160,2,165,2],[166,1,171,1],[166,2,171,2],[172,1,177,1],[172,2,177,2],[142,1,147,1],[142,2,147,2],[148,1,153,1],[148,2,153,2],[154,1,159,1],[154,2,159,2],[120,1,129,1],[120,2,129,2],[130,1,135,1],[130,2,135,2],[136,1,141,1],[136,2,141,2],[90,1,99,1],[90,2,99,2],[100,1,109,1],[100,2,109,2],[110,1,119,1],[110,2,119,2],[60,1,69,1],[60,2,69,2],[70,1,79,1],[70,2,79,2],[80,1,89,1],[80,2,89,2],[30,1,39,1],[30,2,39,2],[40,1,49,1],[40,2,49,2],[50,1,59,1],[50,2,59,2],[28,0,29,0],[28,1,29,2],[28,3,29,3],[1,1,1,3],[3,1,3,2],[4,1,4,2],[5,1,5,2],[6,1,6,2]]}
[]
[null,"ANÁLISIS DE EC PARA DISEÑO CURRICULAR"]
[]
[null,"ESTÁNDAR DE CUALIFICACIÓN:",null,{"$f":"Mapa!#REF!","v":{"$error":"#REF!"}}]
[null,"CÓDIGO ESTÁNDAR:",null,{"$f":"Mapa!B6","v":"dfs"}]
[null,"NOMBRE DEL PROGRAMA:"]
[null,"COMPETENCIA ESPECÍFICA:  ",null,{"$f":"Mapa!G14","v":0}]
[]
[null,"ID","MÓDULOS","TIPO"]
[null,{"$f":"IF(C10<>\"\",1,\"\")","v":1},"d"]
[null,{"$f":"IF('CE 5'!$C11<>\"\",2,\"\")","v":2},"s"]
[null,{"$f":"IF('CE 5'!$C12<>\"\",3,\"\")","v":""}]
[null,{"$f":"IF('CE 5'!$C13<>\"\",4,\"\")","v":""}]
[null,{"$f":"IF('CE 5'!$C14<>\"\",5,\"\")","v":""}]
[null,{"$f":"IF('CE 5'!$C15<>\"\",6,\"\")","v":""}]
[null,{"$f":"IF('CE 5'!$C16<>\"\",7,\"\")","v":""}]
[null,{"$f":"IF('CE 5'!$C17<>\"\",8,\"\")","v":""}]
[null,{"$f":"IF('CE 5'!$C18<>\"\",9,\"\")","v":""}]
[null,{"$f":"IF('CE 5'!$C19<>\"\",10,\"\")","v":""}]
[null,{"$f":"IF('CE 5'!$C20<>\"\",11,\"\")","v":""}]
[null,{"$f":"IF('CE 5'!$C21<>\"\",12,\"\")","v":""}]
[null,{"$f":"IF('CE 5'!$C22<>\"\",13,\"\")","v":""}]
[]
[]
[]
[]
[]
[]
[null,"RESULTADOS DE APRENDIZAJE (RA) ",null,"CAPACIDADES PROCEDIMENTALES\n (HACER)"]
[null,null,null,null,"M1","M2","M3","M4","M5","M6","M7","M8","M9","M10","M11","M12","M13","M14","M15","M16","M17","M18","M19","M20"]
[null,1]
[]
[]
[]
[]
[]
[]
[]
[]
[]
[null,2]
[]
[]
[]
[]
[]
[]
[]
[]
[]
[null,3]
[]
[]
[]
[]
[]
[]
[]
[]
[]
[null,4]
[]
[]
[]
[]
[]
[]
[]
[]
[]
[null,5]
[]
[]
[]
[]
[]
[]
[]
[]
[]
[null,6]
[]
[]
[]
[]
[]
[]
[]
[]
[]
[null,7]
[]
[]
[]
[]
[]
[]
[]
[]
[]
[null,8]
[]
[]
[]
[]
[]
[]
[]
[]
[]
[null,9]
[]
[]
[]
[]
[]
[]
[]
[]
[]
[null,10]
[]
[]
[]
[]
[]
[]
[]
[]
[]
[null,11]
[]
[]
[]
[]
[]
[null,12]
[]
[]
[]
[]
[]
[null,13]
[]
[]
[]
[]
[]
[null,14]
[]
[]
[]
[]
[]
[null,15]
[]
[]
[]
[]
[]
[null,16]
[]
[]
[]
[]
[]
[null,17]
[]
[]
[]
[]
[]
[null,18]
[]
[]
[]
[]
[]
[null,19]
[]
[]
[]
[]
[]
[null,20]
[]
[]
[]
[]
[]
[null,21]
[]
[]
[]
[]
[]
[null,22]
[]
[]
[]
[]
[]
[null,23]
[]
[]
[]
[]
[]
[null,24]
[]
[]
[]
[]
[]
[null,25]

{"sheet":"CE 6","index":6,"n_rows":215,"n_cols":24,"rows_kept":215,"cut":false,"hidden":true,"merged":[[214,1,219,1],[214,2,219,2],[220,1,220,3],[220,4,220,13],[196,1,201,1],[196,2,201,2],[202,1,207,1],[202,2,207,2],[208,1,213,1],[208,2,213,2],[178,1,183,1],[178,2,183,2],[184,1,189,1],[184,2,189,2],[190,1,195,1],[190,2,195,2],[160,1,165,1],[160,2,165,2],[166,1,171,1],[166,2,171,2],[172,1,177,1],[172,2,177,2],[142,1,147,1],[142,2,147,2],[148,1,153,1],[148,2,153,2],[154,1,159,1],[154,2,159,2],[120,1,129,1],[120,2,129,2],[130,1,135,1],[130,2,135,2],[136,1,141,1],[136,2,141,2],[90,1,99,1],[90,2,99,2],[100,1,109,1],[100,2,109,2],[110,1,119,1],[110,2,119,2],[60,1,69,1],[60,2,69,2],[70,1,79,1],[70,2,79,2],[80,1,89,1],[80,2,89,2],[30,1,39,1],[30,2,39,2],[40,1,49,1],[40,2,49,2],[50,1,59,1],[50,2,59,2],[28,0,29,0],[28,1,29,2],[28,3,29,3],[1,1,1,3],[3,1,3,2],[4,1,4,2],[5,1,5,2],[6,1,6,2]]}
[]
[null,"ANÁLISIS DE EC PARA DISEÑO CURRICULAR"]
[]
[null,"ESTÁNDAR DE CUALIFICACIÓN:",null,{"$f":"Mapa!#REF!","v":{"$error":"#REF!"}}]
[null,"CÓDIGO ESTÁNDAR:",null,{"$f":"Mapa!B6","v":"dfs"}]
[null,"NOMBRE DEL PROGRAMA:"]
[null,"COMPETENCIA ESPECÍFICA:  ",null,{"$f":"Mapa!G16","v":0}]
[]
[null,"ID","MÓDULOS","TIPO"]
[null,{"$f":"IF(C10<>\"\",1,\"\")","v":1},"d"]
[null,{"$f":"IF('CE 6'!$C11<>\"\",2,\"\")","v":2},"s"]
[null,{"$f":"IF('CE 6'!$C12<>\"\",3,\"\")","v":""}]
[null,{"$f":"IF('CE 6'!$C13<>\"\",4,\"\")","v":""}]
[null,{"$f":"IF('CE 6'!$C14<>\"\",5,\"\")","v":""}]
[null,{"$f":"IF('CE 6'!$C15<>\"\",6,\"\")","v":""}]
[null,{"$f":"IF('CE 6'!$C16<>\"\",7,\"\")","v":""}]
[null,{"$f":"IF('CE 6'!$C17<>\"\",8,\"\")","v":""}]
[null,{"$f":"IF('CE 6'!$C18<>\"\",9,\"\")","v":""}]
[null,{"$f":"IF('CE 6'!$C19<>\"\",10,\"\")","v":""}]
[null,{"$f":"IF('CE 6'!$C20<>\"\",11,\"\")","v":""}]
[null,{"$f":"IF('CE 6'!$C21<>\"\",12,\"\")","v":""}]
[null,{"$f":"IF('CE 6'!$C22<>\"\",13,\"\")","v":""}]
[]
[]
[]
[]
[]
[]
[null,"RESULTADOS DE APRENDIZAJE (RA) ",null,"CAPACIDADES PROCEDIMENTALES\n (HACER)"]
[null,null,null,null,"M1","M2","M3","M4","M5","M6","M7","M8","M9","M10","M11","M12","M13","M14","M15","M16","M17","M18","M19","M20"]
[null,1]
[]
[]
[]
[]
[]
[]
[]
[]
[]
[null,2]
[]
[]
[]
[]
[]
[]
[]
[]
[]
[null,3]
[]
[]
[]
[]
[]
[]
[]
[]
[]
[null,4]
[]
[]
[]
[]
[]
[]
[]
[]
[]
[null,5]
[]
[]
[]
[]
[]
[]
[]
[]
[]
[null,6]
[]
[]
[]
[]
[]
[]
[]
[]
[]
[null,7]
[]
[]
[]
[]
[]
[]
[]
[]
[]
[null,8]
[]
[]
[]
[]
[]
[]
[]
[]
[]
[null,9]
[]
[]
[]
[]
[]
[]
[]
[]
[]
[null,10]
[]
[]
[]
[]
[]
[]
[]
[]
[]
[null,11]
[]
[]
[]
[]
[]
[null,12]
[]
[]
[]
[]
[]
[null,13]
[]
[]
[]
[]
[]
[null,14]
[]
[]
[]
[]
[]
[null,15]
[]
[]
[]
[]
[]
[null,16]
[]
[]
[]
[]
[]
[null,17]
[]
[]
[]
[]
[]
[null,18]
[]
[]
[]
[]
[]
[null,19]
[]
[]
[]
[]
[]
[null,20]
[]
[]
[]
[]
[]
[null,21]
[]
[]
[]
[]
[]
[null,22]
[]
[]
[]
[]
[]
[null,23]
[]
[]
[]
[]
[]
[null,24]
[]
[]
[]
[]
[]
[null,25]

{"sheet":"CE 7","index":7,"n_rows":215,"n_cols":24,"rows_kept":215,"cut":false,"hidden":true,"merged":[[214,1,219,1],[214,2,219,2],[220,1,220,3],[220,4,220,13],[196,1,201,1],[196,2,201,2],[202,1,207,1],[202,2,207,2],[208,1,213,1],[208,2,213,2],[178,1,183,1],[178,2,183,2],[184,1,189,1],[184,2,189,2],[190,1,195,1],[190,2,195,2],[160,1,165,1],[160,2,165,2],[166,1,171,1],[166,2,171,2],[172,1,177,1],[172,2,177,2],[142,1,147,1],[142,2,147,2],[148,1,153,1],[148,2,153,2],[154,1,159,1],[154,2,159,2],[120,1,129,1],[120,2,129,2],[130,1,135,1],[130,2,135,2],[136,1,141,1],[136,2,141,2],[90,1,99,1],[90,2,99,2],[100,1,109,1],[100,2,109,2],[110,1,119,1],[110,2,119,2],[60,1,69,1],[60,2,69,2],[70,1,79,1],[70,2,79,2],[80,1,89,1],[80,2,89,2],[30,1,39,1],[30,2,39,2],[40,1,49,1],[40,2,49,2],[50,1,59,1],[50,2,59,2],[28,0,29,0],[28,1,29,2],[28,3,29,3],[1,1,1,3],[3,1,3,2],[4,1,4,2],[5,1,5,2],[6,1,6,2]]}
[]
[null,"ANÁLISIS DE EC PARA DISEÑO CURRICULAR"]
[]
[null,"ESTÁNDAR DE CUALIFICACIÓN:",null,{"$f":"Mapa!#REF!","v":{"$error":"#REF!"}}]
[null,"CÓDIGO ESTÁNDAR:",null,{"$f":"Mapa!B6","v":"dfs"}]
[null,"NOMBRE DEL PROGRAMA:"]
[null,"COMPETENCIA ESPECÍFICA:  ",null,{"$f":"Mapa!G18","v":0}]
[]
[null,"ID","MÓDULOS","TIPO"]
[null,{"$f":"IF(C10<>\"\",1,\"\")","v":1},"d"]
[null,{"$f":"IF('CE 7'!$C11<>\"\",2,\"\")","v":2},"s"]
[null,{"$f":"IF('CE 7'!$C12<>\"\",3,\"\")","v":""}]
[null,{"$f":"IF('CE 7'!$C13<>\"\",4,\"\")","v":""}]
[null,{"$f":"IF('CE 7'!$C14<>\"\",5,\"\")","v":""}]
[null,{"$f":"IF('CE 7'!$C15<>\"\",6,\"\")","v":""}]
[null,{"$f":"IF('CE 7'!$C16<>\"\",7,\"\")","v":""}]
[null,{"$f":"IF('CE 7'!$C17<>\"\",8,\"\")","v":""}]
[null,{"$f":"IF('CE 7'!$C18<>\"\",9,\"\")","v":""}]
[null,{"$f":"IF('CE 7'!$C19<>\"\",10,\"\")","v":""}]
[null,{"$f":"IF('CE 7'!$C20<>\"\",11,\"\")","v":""}]
[null,{"$f":"IF('CE 7'!$C21<>\"\",12,\"\")","v":""}]
[null,{"$f":"IF('CE 7'!$C22<>\"\",13,\"\")","v":""}]
[]
[]
[]
[]
[]
[]
[null,"RESULTADOS DE APRENDIZAJE (RA) ",null,"CAPACIDADES PROCEDIMENTALES\n (HACER)"]
[null,null,null,null,"M1","M2","M3","M4","M5","M6","M7","M8","M9","M10","M11","M12","M13","M14","M15","M16","M17","M18","M19","M20"]
[null,1]
[]
[]
[]
[]
[]
[]
[]
[]
[]
[null,2]
[]
[]
[]
[]
[]
[]
[]
[]
[]
[null,3]
[]
[]
[]
[]
[]
[]
[]
[]
[]
[null,4]
[]
[]
[]
[]
[]
[]
[]
[]
[]
[null,5]
[]
[]
[]
[]
[]
[]
[]
[]
[]
[null,6]
[]
[]
[]
[]
[]
[]
[]
[]
[]
[null,7]
[]
[]
[]
[]
[]
[]
[]
[]
[]
[null,8]
[]
[]
[]
[]
[]
[]
[]
[]
[]
[null,9]
[]
[]
[]
[]
[]
[]
[]
[]
[]
[null,10]
[]
[]
[]
[]
[]
[]
[]
[]
[]
[null,11]
[]
[]
[]
[]
[]
[null,12]
[]
[]
[]
[]
[]
[null,13]
[]
[]
[]
[]
[]
[null,14]
[]
[]
[]
[]
[]
[null,15]
[]
[]
[]
[]
[]
[null,16]
[]
[]
[]
[]
[]
[null,17]
[]
[]
[]
[]
[]
[null,18]
[]
[]
[]
[]
[]
[null,19]
[]
[]
[]
[]
[]
[null,20]
[]
[]
[]
[]
[]
[null,21]
[]
[]
[]
[]
[]
[null,22]
[]
[]
[]
[]
[]
[null,23]
[]
[]
[]
[]
[]
[null,24]
[]
[]
[]
[]
[]
[null,25]

{"sheet":"CE 8","index":8,"n_rows":215,"n_cols":24,"rows_kept":215,"cut":false,"hidden":true,"merged":[[214,1,219,1],[214,2,219,2],[220,1,220,3],[220,4,220,13],[196,1,201,1],[196,2,201,2],[202,1,207,1],[202,2,207,2],[208,1,213,1],[208,2,213,2],[178,1,183,1],[178,2,183,2],[184,1,189,1],[184,2,189,2],[190,1,195,1],[190,2,195,2],[160,1,165,1],[160,2,165,2],[166,1,171,1],[166,2,171,2],[172,1,177,1],[172,2,177,2],[142,1,147,1],[142,2,147,2],[148,1,153,1],[148,2,153,2],[154,1,159,1],[154,2,159,2],[120,1,129,1],[120,2,129,2],[130,1,135,1],[130,2,135,2],[136,1,141,1],[136,2,141,2],[90,1,99,1],[90,2,99,2],[100,1,109,1],[100,2,109,2],[110,1,119,1],[110,2,119,2],[60,1,69,1],[60,2,69,2],[70,1,79,1],[70,2,79,2],[80,1,89,1],[80,2,89,2],[30,1,39,1],[30,2,39,2],[40,1,49,1],[40,2,49,2],[50,1,59,1],[50,2,59,2],[28,0,29,0],[28,1,29,2],[28,3,29,3],[1,1,1,3],[3,1,3,2],[4,1,4,2],[5,1,5,2],[6,1,6,2]]}
[]
[null,"ANÁLISIS DE EC PARA DISEÑO CURRICULAR"]
[]
[null,"ESTÁNDAR DE CUALIFICACIÓN:",null,{"$f":"Mapa!#REF!","v":{"$error":"#REF!"}}]
[null,"CÓDIGO ESTÁNDAR:",null,{"$f":"Mapa!B6","v":"dfs"}]
[null,"NOMBRE DEL PROGRAMA:"]
[null,"COMPETENCIA ESPECÍFICA:  ",null,{"$f":"Mapa!G20","v":0}]
[]
[null,"ID","MÓDULOS","TIPO"]
[null,{"$f":"IF(C10<>\"\",1,\"\")","v":1},"d"]
[null,{"$f":"IF('CE 8'!$C11<>\"\",2,\"\")","v":2},"s"]
[null,{"$f":"IF('CE 8'!$C12<>\"\",3,\"\")","v":""}]
[null,{"$f":"IF('CE 8'!$C13<>\"\",4,\"\")","v":""}]
[null,{"$f":"IF('CE 8'!$C14<>\"\",5,\"\")","v":""}]
[null,{"$f":"IF('CE 8'!$C15<>\"\",6,\"\")","v":""}]
[null,{"$f":"IF('CE 8'!$C16<>\"\",7,\"\")","v":""}]
[null,{"$f":"IF('CE 8'!$C17<>\"\",8,\"\")","v":""}]
[null,{"$f":"IF('CE 8'!$C18<>\"\",9,\"\")","v":""}]
[null,{"$f":"IF('CE 8'!$C19<>\"\",10,\"\")","v":""}]
[null,{"$f":"IF('CE 8'!$C20<>\"\",11,\"\")","v":""}]
[null,{"$f":"IF('CE 8'!$C21<>\"\",12,\"\")","v":""}]
[null,{"$f":"IF('CE 8'!$C22<>\"\",13,\"\")","v":""}]
[]
[]
[]
[]
[]
[]
[null,"RESULTADOS DE APRENDIZAJE (RA) ",null,"CAPACIDADES PROCEDIMENTALES\n (HACER)"]
[null,null,null,null,"M1","M2","M3","M4","M5","M6","M7","M8","M9","M10","M11","M12","M13","M14","M15","M16","M17","M18","M19","M20"]
[null,1]
[]
[]
[]
[]
[]
[]
[]
[]
[]
[null,2]
[]
[]
[]
[]
[]
[]
[]
[]
[]
[null,3]
[]
[]
[]
[]
[]
[]
[]
[]
[]
[null,4]
[]
[]
[]
[]
[]
[]
[]
[]
[]
[null,5]
[]
[]
[]
[]
[]
[]
[]
[]
[]
[null,6]
[]
[]
[]
[]
[]
[]
[]
[]
[]
[null,7]
[]
[]
[]
[]
[]
[]
[]
[]
[]
[null,8]
[]
[]
[]
[]
[]
[]
[]
[]
[]
[null,9]
[]
[]
[]
[]
[]
[]
[]
[]
[]
[null,10]
[]
[]
[]
[]
[]
[]
[]
[]
[]
[null,11]
[]
[]
[]
[]
[]
[null,12]
[]
[]
[]
[]
[]
[null,13]
[]
[]
[]
[]
[]
[null,14]
[]
[]
[]
[]
[]
[null,15]
[]
[]
[]
[]
[]
[null,16]
[]
[]
[]
[]
[]
[null,17]
[]
[]
[]
[]
[]
[null,18]
[]
[]
[]
[]
[]
[null,19]
[]
[]
[]
[]
[]
[null,20]
[]
[]
[]
[]
[]
[null,21]
[]
[]
[]
[]
[]
[null,22]
[]
[]
[]
[]
[]
[null,23]
[]
[]
[]
[]
[]
[null,24]
[]
[]
[]
[]
[]
[null,25]

{"sheet":"CE 9","index":9,"n_rows":215,"n_cols":24,"rows_kept":215,"cut":false,"hidden":true,"merged":[[28,0,29,0],[28,1,29,2],[28,3,29,3],[1,1,1,3],[3,1,3,2],[4,1,4,2],[5,1,5,2],[6,1,6,2],[30,1,39,1],[30,2,39,2],[40,1,49,1],[40,2,49,2],[50,1,59,1],[50,2,59,2],[60,1,69,1],[60,2,69,2],[70,1,79,1],[70,2,79,2],[80,1,89,1],[80,2,89,2],[90,1,99,1],[90,2,99,2],[100,1,109,1],[100,2,109,2],[110,1,119,1],[110,2,119,2],[120,1,129,1],[120,2,129,2],[130,1,135,1],[130,2,135,2],[136,1,141,1],[136,2,141,2],[142,1,147,1],[142,2,147,2],[148,1,153,1],[148,2,153,2],[154,1,159,1],[154,2,159,2],[160,1,165,1],[160,2,165,2],[166,1,171,1],[166,2,171,2],[172,1,177,1],[172,2,177,2],[178,1,183,1],[178,2,183,2],[184,1,189,1],[184,2,189,2],[190,1,195,1],[190,2,195,2],[214,1,219,1],[214,2,219,2],[220,1,220,3],[220,4,220,13],[196,1,201,1],[196,2,201,2],[202,1,207,1],[202,2,207,2],[208,1,213,1],[208,2,213,2]]}
[]
[null,"ANÁLISIS DE EC PARA DISEÑO CURRICULAR"]
[]
[null,"ESTÁNDAR DE CUALIFICACIÓN:",null,{"$f":"Mapa!#REF!","v":{"$error":"#REF!"}}]
[null,"CÓDIGO ESTÁNDAR:",null,{"$f":"Mapa!B6","v":"dfs"}]
[null,"NOMBRE DEL PROGRAMA:"]
[null,"COMPETENCIA ESPECÍFICA:  ",null,{"$f":"Mapa!G22","v":0}]
[]
[null,"ID","MÓDULOS","TIPO"]
[null,{"$f":"IF(C10<>\"\",1,\"\")","v":1},"d"]
[null,{"$f":"IF('CE 9'!$C11<>\"\",2,\"\")","v":2},"s"]
[null,{"$f":"IF('CE 9'!$C12<>\"\",3,\"\")","v":""}]
[null,{"$f":"IF('CE 9'!$C13<>\"\",4,\"\")","v":""}]
[null,{"$f":"IF('CE 9'!$C14<>\"\",5,\"\")","v":""}]
[null,{"$f":"IF('CE 9'!$C15<>\"\",6,\"\")","v":""}]
[null,{"$f":"IF('CE 9'!$C16<>\"\",7,\"\")","v":""}]
[null,{"$f":"IF('CE 9'!$C17<>\"\",8,\"\")","v":""}]
[null,{"$f":"IF('CE 9'!$C18<>\"\",9,\"\")","v":""}]
[null,{"$f":"IF('CE 9'!$C19<>\"\",10,\"\")","v":""}]
[null,{"$f":"IF('CE 9'!$C20<>\"\",11,\"\")","v":""}]
[null,{"$f":"IF('CE 9'!$C21<>\"\",12,\"\")","v":""}]
[null,{"$f":"IF('CE 9'!$C22<>\"\",13,\"\")","v":""}]
[]
[]
[]
[]
[]
[]
[null,"RESULTADOS DE APRENDIZAJE (RA) ",null,"CAPACIDADES PROCEDIMENTALES\n (HACER)"]
[null,null,null,null,"M1","M2","M3","M4","M5","M6","M7","M8","M9","M10","M11","M12","M13","M14","M15","M16","M17","M18","M19","M20"]
[null,1]
[]
[]
[]
[]
[]
[]
[]
[]
[]
[null,2]
[]
[]
[]
[]
[]
[]
[]
[]
[]
[null,3]
[]
[]
[]
[]
[]
[]
[]
[]
[]
[null,4]
[]
[]
[]
[]
[]
[]
[]
[]
[]
[null,5]
[]
[]
[]
[]
[]
[]
[]
[]
[]
[null,6]
[]
[]
[]
[]
[]
[]
[]
[]
[]
[null,7]
[]
[]
[]
[]
[]
[]
[]
[]
[]
[null,8]
[]
[]
[]
[]
[]
[]
[]
[]
[]
[null,9]
[]
[]
[]
[]
[]
[]
[]
[]
[]
[null,10]
[]
[]
[]
[]
[]
[]
[]
[]
[]
[null,11]
[]
[]
[]
[]
[]
[null,12]
[]
[]
[]
[]
[]
[null,13]
[]
[]
[]
[]
[]
[null,14]
[]
[]
[]
[]
[]
[null,15]
[]
[]
[]
[]
[]
[null,16]
[]
[]
[]
[]
[]
[null,17]
[]
[]
[]
[]
[]
[null,18]
[]
[]
[]
[]
[]
[null,19]
[]
[]
[]
[]
[]
[null,20]
[]
[]
[]
[]
[]
[null,21]
[]
[]
[]
[]
[]
[null,22]
[]
[]
[]
[]
[]
[null,23]
[]
[]
[]
[]
[]
[null,24]
[]
[]
[]
[]
[]
[null,25]

{"sheet":"CE 10","index":10,"n_rows":215,"n_cols":24,"rows_kept":215,"cut":false,"hidden":true,"merged":[[28,0,29,0],[28,1,29,2],[28,3,29,3],[1,1,1,3],[3,1,3,2],[4,1,4,2],[5,1,5,2],[6,1,6,2],[30,1,39,1],[30,2,39,2],[40,1,49,1],[40,2,49,2],[50,1,59,1],[50,2,59,2],[60,1,69,1],[60,2,69,2],[70,1,79,1],[70,2,79,2],[80,1,89,1],[80,2,89,2],[90,1,99,1],[90,2,99,2],[100,1,109,1],[100,2,109,2],[110,1,119,1],[110,2,119,2],[120,1,129,1],[120,2,129,2],[130,1,135,1],[130,2,135,2],[136,1,141,1],[136,2,141,2],[142,1,147,1],[142,2,147,2],[148,1,153,1],[148,2,153,2],[154,1,159,1],[154,2,159,2],[160,1,165,1],[160,2,165,2],[166,1,171,1],[166,2,171,2],[172,1,177,1],[172,2,177,2],[178,1,183,1],[178,2,183,2],[184,1,189,1],[184,2,189,2],[190,1,195,1],[190,2,195,2],[214,1,219,1],[214,2,219,2],[220,1,220,3],[220,4,220,13],[196,1,201,1],[196,2,201,2],[202,1,207,1],[202,2,207,2],[208,1,213,1],[208,2,213,2]]}
[]
[null,"ANÁLISIS DE EC PARA DISEÑO CURRICULAR"]
[]
[null,"ESTÁNDAR DE CUALIFICACIÓN:",null,{"$f":"Mapa!#REF!","v":{"$error":"#REF!"}}]
[null,"CÓDIGO ESTÁNDAR:",null,{"$f":"Mapa!B6","v":"dfs"}]
[null,"NOMBRE DEL PROGRAMA:"]
[null,"COMPETENCIA ESPECÍFICA:  ",null,{"$f":"Mapa!G24","v":0}]
[]
[null,"ID","MÓDULOS","TIPO"]
[null,{"$f":"IF(C10<>\"\",1,\"\")","v":1},"d"]
[null,{"$f":"IF('CE 10'!$C11<>\"\",2,\"\")","v":2},"s"]
[null,{"$f":"IF('CE 10'!$C12<>\"\",3,\"\")","v":""}]
[null,{"$f":"IF('CE 10'!$C13<>\"\",4,\"\")","v":""}]
[null,{"$f":"IF('CE 10'!$C14<>\"\",5,\"\")","v":""}]
[null,{"$f":"IF('CE 10'!$C15<>\"\",6,\"\")","v":""}]
[null,{"$f":"IF('CE 10'!$C16<>\"\",7,\"\")","v":""}]
[null,{"$f":"IF('CE 10'!$C17<>\"\",8,\"\")","v":""}]
[null,{"$f":"IF('CE 10'!$C18<>\"\",9,\"\")","v":""}]
[null,{"$f":"IF('CE 10'!$C19<>\"\",10,\"\")","v":""}]
[null,{"$f":"IF('CE 10'!$C20<>\"\",11,\"\")","v":""}]
[null,{"$f":"IF('CE 10'!$C21<>\"\",12,\"\")","v":""}]
[null,{"$f":"IF('CE 10'!$C22<>\"\",13,\"\")","v":""}]
[]
[]
[]
[]
[]
[]
[null,"RESULTADOS DE APRENDIZAJE (RA) ",null,"CAPACIDADES PROCEDIMENTALES\n (HACER)"]
[null,null,null,null,"M1","M2","M3","M4","M5","M6","M7","M8","M9","M10","M11","M12","M13","M14","M15","M16","M17","M18","M19","M20"]
[null,1]
[]
[]
[]
[]
[]
[]
[]
[]
[]
[null,2]
[]
[]
[]
[]
[]
[]
[]
[]
[]
[null,3]
[]
[]
[]
[]
[]
[]
[]
[]
[]
[null,4]
[]
[]
[]
[]
[]
[]
[]
[]
[]
[null,5]
[]
[]
[]
[]
[]
[]
[]
[]
[]
[null,6]
[]
[]
[]
[]
[]
[]
[]
[]
[]
[null,7]
[]
[]
[]
[]
[]
[]
[]
[]
[]
[null,8]
[]
[]
[]
[]
[]
[]
[]
[]
[]
[null,9]
[]
[]
[]
[]
[]
[]
[]
[]
[]
[null,10]
[]
[]
[]
[]
[]
[]
[]
[]
[]
[null,11]
[]
[]
[]
[]
[]
[null,12]
[]
[]
[]
[]
[]
[null,13]
[]
[]
[]
[]
[]
[null,14]
[]
[]
[]
[]
[]
[null,15]
[]
[]
[]
[]
[]
[null,16]
[]
[]
[]
[]
[]
[null,17]
[]
[]
[]
[]
[]
[null,18]
[]
[]
[]
[]
[]
[null,19]
[]
[]
[]
[]
[]
[null,20]
[]
[]
[]
[]
[]
[null,21]
[]
[]
[]
[]
[]
[null,22]
[]
[]
[]
[]
[]
[null,23]
[]
[]
[]
[]
[]
[null,24]
[]
[]
[]
[]
[]
[null,25]

{"sheet":"CE 11","index":11,"n_rows":215,"n_cols":24,"rows_kept":215,"cut":false,"hidden":true,"merged":[[28,0,29,0],[28,1,29,2],[28,3,29,3],[1,1,1,3],[3,1,3,2],[4,1,4,2],[5,1,5,2],[6,1,6,2],[30,1,39,1],[30,2,39,2],[40,1,49,1],[40,2,49,2],[50,1,59,1],[50,2,59,2],[60,1,69,1],[60,2,69,2],[70,1,79,1],[70,2,79,2],[80,1,89,1],[80,2,89,2],[90,1,99,1],[90,2,99,2],[100,1,109,1],[100,2,109,2],[110,1,119,1],[110,2,119,2],[120,1,129,1],[120,2,129,2],[130,1,135,1],[130,2,135,2],[136,1,141,1],[136,2,141,2],[142,1,147,1],[142,2,147,2],[148,1,153,1],[148,2,153,2],[154,1,159,1],[154,2,159,2],[160,1,165,1],[160,2,165,2],[166,1,171,1],[166,2,171,2],[172,1,177,1],[172,2,177,2],[178,1,183,1],[178,2,183,2],[184,1,189,1],[184,2,189,2],[190,1,195,1],[190,2,195,2],[214,1,219,1],[214,2,219,2],[220,1,220,3],[220,4,220,13],[196,1,201,1],[196,2,201,2],[202,1,207,1],[202,2,207,2],[208,1,213,1],[208,2,213,2]]}
[]
[null,"ANÁLISIS DE EC PARA DISEÑO CURRICULAR"]
[]
[null,"ESTÁNDAR DE CUALIFICACIÓN:",null,{"$f":"Mapa!#REF!","v":{"$error":"#REF!"}}]
[null,"CÓDIGO ESTÁNDAR:",null,{"$f":"Mapa!B6","v":"dfs"}]
[null,"NOMBRE DEL PROGRAMA:"]
[null,"COMPETENCIA ESPECÍFICA:  ",null,{"$f":"Mapa!G26","v":0}]
[]
[null,"ID","MÓDULOS","TIPO"]
[null,{"$f":"IF(C10<>\"\",1,\"\")","v":1},"d"]
[null,{"$f":"IF('CE 11'!$C11<>\"\",2,\"\")","v":2},"s"]
[null,{"$f":"IF('CE 11'!$C12<>\"\",3,\"\")","v":""}]
[null,{"$f":"IF('CE 11'!$C13<>\"\",4,\"\")","v":""}]
[null,{"$f":"IF('CE 11'!$C14<>\"\",5,\"\")","v":""}]
[null,{"$f":"IF('CE 11'!$C15<>\"\",6,\"\")","v":""}]
[null,{"$f":"IF('CE 11'!$C16<>\"\",7,\"\")","v":""}]
[null,{"$f":"IF('CE 11'!$C17<>\"\",8,\"\")","v":""}]
[null,{"$f":"IF('CE 11'!$C18<>\"\",9,\"\")","v":""}]
[null,{"$f":"IF('CE 11'!$C19<>\"\",10,\"\")","v":""}]
[null,{"$f":"IF('CE 11'!$C20<>\"\",11,\"\")","v":""}]
[null,{"$f":"IF('CE 11'!$C21<>\"\",12,\"\")","v":""}]
[null,{"$f":"IF('CE 11'!$C22<>\"\",13,\"\")","v":""}]
[]
[]
[]
[]
[]
[]
[null,"RESULTADOS DE APRENDIZAJE (RA) ",null,"CAPACIDADES PROCEDIMENTALES\n (HACER)"]
[null,null,null,null,"M1","M2","M3","M4","M5","M6","M7","M8","M9","M10","M11","M12","M13","M14","M15","M16","M17","M18","M19","M20"]
[null,1]
[]
[]
[]
[]
[]
[]
[]
[]
[]
[null,2]
[]
[]
[]
[]
[]
[]
[]
[]
[]
[null,3]
[]
[]
[]
[]
[]
[]
[]
[]
[]
[null,4]
[]
[]
[]
[]
[]
[]
[]
[]
[]
[null,5]
[]
[]
[]
[]
[]
[]
[]
[]
[]
[null,6]
[]
[]
[]
[]
[]
[]
[]
[]
[]
[null,7]
[]
[]
[]
[]
[]
[]
[]
[]
[]
[null,8]
[]
[]
[]
[]
[]
[]
[]
[]
[]
[null,9]
[]
[]
[]
[]
[]
[]
[]
[]
[]
[null,10]
[]
[]
[]
[]
[]
[]
[]
[]
[]
[null,11]
[]
[]
[]
[]
[]
[null,12]
[]
[]
[]
[]
[]
[null,13]
[]
[]
[]
[]
[]
[null,14]
[]
[]
[]
[]
[]
[null,15]
[]
[]
[]
[]
[]
[null,16]
[]
[]
[]
[]
[]
[null,17]
[]
[]
[]
[]
[]
[null,18]
[]
[]
[]
[]
[]
[null,19]
[]
[]
[]
[]
[]
[null,20]
[]
[]
[]
[]
[]
[null,21]
[]
[]
[]
[]
[]
[null,22]
[]
[]
[]
[]
[]
[null,23]
[]
[]
[]
[]
[]
[null,24]
[]
[]
[]
[]
[]
[null,25]

{"sheet":"CE 12","index":12,"n_rows":215,"n_cols":24,"rows_kept":215,"cut":false,"hidden":true,"merged":[[28,0,29,0],[28,1,29,2],[28,3,29,3],[1,1,1,3],[3,1,3,2],[4,1,4,2],[5,1,5,2],[6,1,6,2],[30,1,39,1],[30,2,39,2],[40,1,49,1],[40,2,49,2],[50,1,59,1],[50,2,59,2],[60,1,69,1],[60,2,69,2],[70,1,79,1],[70,2,79,2],[80,1,89,1],[80,2,89,2],[90,1,99,1],[90,2,99,2],[100,1,109,1],[100,2,109,2],[110,1,119,1],[110,2,119,2],[120,1,129,1],[120,2,129,2],[130,1,135,1],[130,2,135,2],[136,1,141,1],[136,2,141,2],[142,1,147,1],[142,2,147,2],[148,1,153,1],[148,2,153,2],[154,1,159,1],[154,2,159,2],[160,1,165,1],[160,2,165,2],[166,1,171,1],[166,2,171,2],[172,1,177,1],[172,2,177,2],[178,1,183,1],[178,2,183,2],[184,1,189,1],[184,2,189,2],[190,1,195,1],[190,2,195,2],[214,1,219,1],[214,2,219,2],[220,1,220,3],[220,4,220,13],[196,1,201,1],[196,2,201,2],[202,1,207,1],[202,2,207,2],[208,1,213,1],[208,2,213,2]]}
[]
[null,"ANÁLISIS DE EC PARA DISEÑO CURRICULAR"]
[]
[null,"ESTÁNDAR DE CUALIFICACIÓN:",null,{"$f":"Mapa!#REF!","v":{"$error":"#REF!"}}]
[null,"CÓDIGO ESTÁNDAR:",null,{"$f":"Mapa!B6","v":"dfs"}]
[null,"NOMBRE DEL PROGRAMA:"]
[null,"COMPETENCIA ESPECÍFICA:  ",null,{"$f":"Mapa!G28","v":0}]
[]
[null,"ID","MÓDULOS","TIPO"]
[null,{"$f":"IF(C10<>\"\",1,\"\")","v":1},"d"]
[null,{"$f":"IF('CE 12'!$C11<>\"\",2,\"\")","v":2},"s"]
[null,{"$f":"IF('CE 12'!$C12<>\"\",3,\"\")","v":""}]
[null,{"$f":"IF('CE 12'!$C13<>\"\",4,\"\")","v":""}]
[null,{"$f":"IF('CE 12'!$C14<>\"\",5,\"\")","v":""}]
[null,{"$f":"IF('CE 12'!$C15<>\"\",6,\"\")","v":""}]
[null,{"$f":"IF('CE 12'!$C16<>\"\",7,\"\")","v":""}]
[null,{"$f":"IF('CE 12'!$C17<>\"\",8,\"\")","v":""}]
[null,{"$f":"IF('CE 12'!$C18<>\"\",9,\"\")","v":""}]
[null,{"$f":"IF('CE 12'!$C19<>\"\",10,\"\")","v":""}]
[null,{"$f":"IF('CE 12'!$C20<>\"\",11,\"\")","v":""}]
[null,{"$f":"IF('CE 12'!$C21<>\"\",12,\"\")","v":""}]
[null,{"$f":"IF('CE 12'!$C22<>\"\",13,\"\")","v":""}]
[]
[]
[]
[]
[]
[]
[null,"RESULTADOS DE APRENDIZAJE (RA) ",null,"CAPACIDADES PROCEDIMENTALES\n (HACER)"]
[null,null,null,null,"M1","M2","M3","M4","M5","M6","M7","M8","M9","M10","M11","M12","M13","M14","M15","M16","M17","M18","M19","M20"]
[null,1]
[]
[]
[]
[]
[]
[]
[]
[]
[]
[null,2]
[]
[]
[]
[]
[]
[]
[]
[]
[]
[null,3]
[]
[]
[]
[]
[]
[]
[]
[]
[]
[null,4]
[]
[]
[]
[]
[]
[]
[]
[]
[]
[null,5]
[]
[]
[]
[]
[]
[]
[]
[]
[]
[null,6]
[]
[]
[]
[]
[]
[]
[]
[]
[]
[null,7]
[]
[]
[]
[]
[]
[]
[]
[]
[]
[null,8]
[]
[]
[]
[]
[]
[]
[]
[]
[]
[null,9]
[]
[]
[]
[]
[]
[]
[]
[]
[]
[null,10]
[]
[]
[]
[]
[]
[]
[]
[]
[]
[null,11]
[]
[]
[]
[]
[]
[null,12]
[]
[]
[]
[]
[]
[null,13]
[]
[]
[]
[]
[]
[null,14]
[]
[]
[]
[]
[]
[null,15]
[]
[]
[]
[]
[]
[null,16]
[]
[]
[]
[]
[]
[null,17]
[]
[]
[]
[]
[]
[null,18]
[]
[]
[]
[]
[]
[null,19]
[]
[]
[]
[]
[]
[null,20]
[]
[]
[]
[]
[]
[null,21]
[]
[]
[]
[]
[]
[null,22]
[]
[]
[]
[]
[]
[null,23]
[]
[]
[]
[]
[]
[null,24]
[]
[]
[]
[]
[]
[null,25]

{"sheet":"CE 13","index":13,"n_rows":215,"n_cols":24,"rows_kept":215,"cut":false,"hidden":true,"merged":[[28,0,29,0],[28,1,29,2],[28,3,29,3],[1,1,1,3],[3,1,3,2],[4,1,4,2],[5,1,5,2],[6,1,6,2],[30,1,39,1],[30,2,39,2],[40,1,49,1],[40,2,49,2],[50,1,59,1],[50,2,59,2],[60,1,69,1],[60,2,69,2],[70,1,79,1],[70,2,79,2],[80,1,89,1],[80,2,89,2],[90,1,99,1],[90,2,99,2],[100,1,109,1],[100,2,109,2],[110,1,119,1],[110,2,119,2],[120,1,129,1],[120,2,129,2],[130,1,135,1],[130,2,135,2],[136,1,141,1],[136,2,141,2],[142,1,147,1],[142,2,147,2],[148,1,153,1],[148,2,153,2],[154,1,159,1],[154,2,159,2],[160,1,165,1],[160,2,165,2],[166,1,171,1],[166,2,171,2],[172,1,177,1],[172,2,177,2],[178,1,183,1],[178,2,183,2],[184,1,189,1],[184,2,189,2],[190,1,195,1],[190,2,195,2],[214,1,219,1],[214,2,219,2],[220,1,220,3],[220,4,220,13],[196,1,201,1],[196,2,201,2],[202,1,207,1],[202,2,207,2],[208,1,213,1],[208,2,213,2]]}
[]
[null,"ANÁLISIS DE EC PARA DISEÑO CURRICULAR"]
[]
[null,"ESTÁNDAR DE CUALIFICACIÓN:",null,{"$f":"Mapa!#REF!","v":{"$error":"#REF!"}}]
[null,"CÓDIGO ESTÁNDAR:",null,{"$f":"Mapa!B6","v":"dfs"}]
[null,"NOMBRE DEL PROGRAMA:"]
[null,"COMPETENCIA ESPECÍFICA:  ",null,{"$f":"Mapa!G30","v":0}]
[]
[null,"ID","MÓDULOS","TIPO"]
[null,{"$f":"IF(C10<>\"\",1,\"\")","v":1},"d"]
[null,{"$f":"IF('CE 13'!$C11<>\"\",2,\"\")","v":2},"s"]
[null,{"$f":"IF('CE 13'!$C12<>\"\",3,\"\")","v":""}]
[null,{"$f":"IF('CE 13'!$C13<>\"\",4,\"\")","v":""}]
[null,{"$f":"IF('CE 13'!$C14<>\"\",5,\"\")","v":""}]
[null,{"$f":"IF('CE 13'!$C15<>\"\",6,\"\")","v":""}]
[null,{"$f":"IF('CE 13'!$C16<>\"\",7,\"\")","v":""}]
[null,{"$f":"IF('CE 13'!$C17<>\"\",8,\"\")","v":""}]
[null,{"$f":"IF('CE 13'!$C18<>\"\",9,\"\")","v":""}]
[null,{"$f":"IF('CE 13'!$C19<>\"\",10,\"\")","v":""}]
[null,{"$f":"IF('CE 13'!$C20<>\"\",11,\"\")","v":""}]
[null,{"$f":"IF('CE 13'!$C21<>\"\",12,\"\")","v":""}]
[null,{"$f":"IF('CE 13'!$C22<>\"\",13,\"\")","v":""}]
[]
[]
[]
[]
[]
[]
[null,"RESULTADOS DE APRENDIZAJE (RA) ",null,"CAPACIDADES PROCEDIMENTALES\n (HACER)"]
[null,null,null,null,"M1","M2","M3","M4","M5","M6","M7","M8","M9","M10","M11","M12","M13","M14","M15","M16","M17","M18","M19","M20"]
[null,1]
[]
[]
[]
[]
[]
[]
[]
[]
[]
[null,2]
[]
[]
[]
[]
[]
[]
[]
[]
[]
[null,3]
[]
[]
[]
[]
[]
[]
[]
[]
[]
[null,4]
[]
[]
[]
[]
[]
[]
[]
[]
[]
[null,5]
[]
[]
[]
[]
[]
[]
[]
[]
[]
[null,6]
[]
[]
[]
[]
[]
[]
[]
[]
[]
[null,7]
[]
[]
[]
[]
[]
[]
[]
[]
[]
[null,8]
[]
[]
[]
[]
[]
[]
[]
[]
[]
[null,9]
[]
[]
[]
[]
[]
[]
[]
[]
[]
[null,10]
[]
[]
[]
[]
[]
[]
[]
[]
[]
[null,11]
[]
[]
[]
[]
[]
[null,12]
[]
[]
[]
[]
[]
[null,13]
[]
[]
[]
[]
[]
[null,14]
[]
[]
[]
[]
[]
[null,15]
[]
[]
[]
[]
[]
[null,16]
[]
[]
[]
[]
[]
[null,17]
[]
[]
[]
[]
[]
[null,18]
[]
[]
[]
[]
[]
[null,19]
[]
[]
[]
[]
[]
[null,20]
[]
[]
[]
[]
[]
[null,21]
[]
[]
[]
[]
[]
[null,22]
[]
[]
[]
[]
[]
[null,23]
[]
[]
[]
[]
[]
[null,24]
[]
[]
[]
[]
[]
[null,25]

{"sheet":"CE 14","index":14,"n_rows":215,"n_cols":24,"rows_kept":215,"cut":false,"hidden":true,"merged":[[28,0,29,0],[28,1,29,2],[28,3,29,3],[1,1,1,3],[3,1,3,2],[4,1,4,2],[5,1,5,2],[6,1,6,2],[30,1,39,1],[30,2,39,2],[40,1,49,1],[40,2,49,2],[50,1,59,1],[50,2,59,2],[60,1,69,1],[60,2,69,2],[70,1,79,1],[70,2,79,2],[80,1,89,1],[80,2,89,2],[90,1,99,1],[90,2,99,2],[100,1,109,1],[100,2,109,2],[110,1,119,1],[110,2,119,2],[120,1,129,1],[120,2,129,2],[130,1,135,1],[130,2,135,2],[136,1,141,1],[136,2,141,2],[142,1,147,1],[142,2,147,2],[148,1,153,1],[148,2,153,2],[154,1,159,1],[154,2,159,2],[160,1,165,1],[160,2,165,2],[166,1,171,1],[166,2,171,2],[172,1,177,1],[172,2,177,2],[178,1,183,1],[178,2,183,2],[184,1,189,1],[184,2,189,2],[190,1,195,1],[190,2,195,2],[214,1,219,1],[214,2,219,2],[220,1,220,3],[220,4,220,13],[196,1,201,1],[196,2,201,2],[202,1,207,1],[202,2,207,2],[208,1,213,1],[208,2,213,2]]}
[]
[null,"ANÁLISIS DE EC PARA DISEÑO CURRICULAR"]
[]
[null,"ESTÁNDAR DE CUALIFICACIÓN:",null,{"$f":"Mapa!#REF!","v":{"$error":"#REF!"}}]
[null,"CÓDIGO ESTÁNDAR:",null,{"$f":"Mapa!B6","v":"dfs"}]
[null,"NOMBRE DEL PROGRAMA:"]
[null,"COMPETENCIA ESPECÍFICA:  ",null,{"$f":"Mapa!G32","v":0}]
[]
[null,"ID","MÓDULOS","TIPO"]
[null,{"$f":"IF(C10<>\"\",1,\"\")","v":1},"d"]
[null,{"$f":"IF('CE 14'!$C11<>\"\",2,\"\")","v":2},"s"]
[null,{"$f":"IF('CE 14'!$C12<>\"\",3,\"\")","v":""}]
[null,{"$f":"IF('CE 14'!$C13<>\"\",4,\"\")","v":""}]
[null,{"$f":"IF('CE 14'!$C14<>\"\",5,\"\")","v":""}]
[null,{"$f":"IF('CE 14'!$C15<>\"\",6,\"\")","v":""}]
[null,{"$f":"IF('CE 14'!$C16<>\"\",7,\"\")","v":""}]
[null,{"$f":"IF('CE 14'!$C17<>\"\",8,\"\")","v":""}]
[null,{"$f":"IF('CE 14'!$C18<>\"\",9,\"\")","v":""}]
[null,{"$f":"IF('CE 14'!$C19<>\"\",10,\"\")","v":""}]
[null,{"$f":"IF('CE 14'!$C20<>\"\",11,\"\")","v":""}]
[null,{"$f":"IF('CE 14'!$C21<>\"\",12,\"\")","v":""}]
[null,{"$f":"IF('CE 14'!$C22<>\"\",13,\"\")","v":""}]
[]
[]
[]
[]
[]
[]
[null,"RESULTADOS DE APRENDIZAJE (RA) ",null,"CAPACIDADES PROCEDIMENTALES\n (HACER)"]
[null,null,null,null,"M1","M2","M3","M4","M5","M6","M7","M8","M9","M10","M11","M12","M13","M14","M15","M16","M17","M18","M19","M20"]
[null,1,"s"]
[]
[]
[]
[]
[]
[]
[]
[]
[]
[null,2]
[]
[]
[]
[]
[]
[]
[]
[]
[]
[null,3]
[]
[]
[]
[]
[]
[]
[]
[]
[]
[null,4]
[]
[]
[]
[]
[]
[]
[]
[]
[]
[null,5]
[]
[]
[]
[]
[]
[]
[]
[]
[]
[null,6]
[]
[]
[]
[]
[]
[]
[]
[]
[]
[null,7]
[]
[]
[]
[]
[]
[]
[]
[]
[]
[null,8]
[]
[]
[]
[]
[]
[]
[]
[]
[]
[null,9]
[]
[]
[]
[]
[]
[]
[]
[]
[]
[null,10]
[]
[]
[]
[]
[]
[]
[]
[]
[]
[null,11]
[]
[]
[]
[]
[]
[null,12]
[]
[]
[]
[]
[]
[null,13]
[]
[]
[]
[]
[]
[null,14]
[]
[]
[]
[]
[]
[null,15]
[]
[]
[]
[]
[]
[null,16]
[]
[]
[]
[]
[]
[null,17]
[]
[]
[]
[]
[]
[null,18]
[]
[]
[]
[]
[]
[null,19]
[]
[]
[]
[]
[]
[null,20]
[]
[]
[]
[]
[]
[null,21]
[]
[]
[]
[]
[]
[null,22]
[]
[]
[]
[]
[]
[null,23]
[]
[]
[]
[]
[]
[null,24]
[]
[]
[]
[]
[]
[null,25]

{"sheet":"M1","index":15,"n_rows":167,"n_cols":14,"rows_kept":167,"cut":false,"hidden":false,"merged":[[1,1,1,3],[166,1,171,1],[166,2,171,2],[172,1,172,3],[172,4,172,13],[19,4,19,13],[154,1,159,1],[154,2,159,2],[160,1,165,1],[160,2,165,2],[124,2,129,2],[94,1,99,1],[94,2,99,2],[100,1,105,1],[100,2,105,2],[106,1,111,1],[106,2,111,2],[112,1,117,1],[112,2,117,2],[118,1,123,1],[118,2,123,2],[124,1,129,1],[148,1,153,1],[148,2,153,2],[130,1,135,1],[130,2,135,2],[136,1,141,1],[136,2,141,2],[142,1,147,1],[142,2,147,2],[88,1,93,1],[88,2,93,2],[70,1,75,1],[70,2,75,2],[76,1,81,1],[76,2,81,2],[82,1,87,1],[82,2,87,2],[64,2,69,2],[34,1,39,1],[40,1,45,1],[34,2,39,2],[52,1,57,1],[52,2,57,2],[58,1,63,1],[58,2,63,2],[64,1,69,1],[46,1,51,1],[46,2,51,2],[40,2,45,2],[20,0,21,0],[20,1,21,2],[22,1,27,1],[22,2,27,2],[17,2,17,3],[18,2,18,3],[16,2,16,3],[20,3,21,3],[28,2,33,2],[28,1,33,1],[8,2,8,3],[13,2,13,3],[15,2,15,3],[14,2,14,3],[10,2,10,3],[11,2,11,3],[12,2,12,3],[3,1,3,2],[4,1,4,2],[5,1,5,2],[6,1,6,2],[9,2,9,3]]}
[]
[null,"MÓDULO 1: \nDEFINICIÓN DE UNIDADES DE APRENDIZAJE (UA) PARA CADA MÓDULO"]
[]
[null,"ID:",null,{"$f":"'CE 1'!B10","v":1}]
[null,"NOMBRE:"]
[null,"PROPÓSITO:"]
[null,"TIPO:"]
[]
[null,"ID","UNIDADES DE APRENDIZAJE"]
[null,{"$f":"IF('M1'!$C10<>\"\",1,\"\")","v":""}]
[null,{"$f":"IF('M1'!$C11<>\"\",2,\"\")","v":""}]
[null,{"$f":"IF('M1'!$C12<>\"\",3,\"\")","v":""}]
[null,{"$f":"IF('M1'!$C13<>\"\",4,\"\")","v":""}]
[null,{"$f":"IF('M1'!$C14<>\"\",5,\"\")","v":""}]
[null,{"$f":"IF('M1'!$C15<>\"\",6,\"\")","v":""}]
[null,{"$f":"IF('M1'!$C16<>\"\",7,\"\")","v":""}]
[null,{"$f":"IF('M1'!$C17<>\"\",8,\"\")","v":""}]
[null,{"$f":"IF('M1'!$C18<>\"\",9,\"\")","v":""}]
[null,{"$f":"IF('M1'!$C19<>\"\",10,\"\")","v":""}]
[null,null,null,null,"Unidades Aprendizaje"]
[null,"CAPACIDADES PROCEDIMENTALES\n(hacer)",null,"ANÁLISIS DE CAPACIDADES \nPROCEDIMENTALES (hacer) PARA DEFINIR \nUNIDADES DE APRENDIZAJE"]
[null,null,null,null,{"$f":"B10","v":""},{"$f":"B11","v":""},{"$f":"B12","v":""},{"$f":"B13","v":""},{"$f":"B14","v":""},{"$f":"B15","v":""},{"$f":"B16","v":""},{"$f":"B17","v":""},{"$f":"B18","v":""},{"$f":"B19","v":""}]
[null,1]
[]
[]
[]
[]
[]
[null,2]
[]
[]
[]
[]
[]
[null,3]
[]
[]
[]
[]
[]
[null,4]
[]
[]
[]
[]
[]
[null,5]
[]
[]
[]
[]
[]
[null,6]
[]
[]
[]
[]
[]
[null,7]
[]
[]
[]
[]
[]
[null,8]
[]
[]
[]
[]
[]
[null,9]
[]
[]
[]
[]
[null,null,null,null,null,null,null,null,null,null,null,null,"X"]
[null,10]
[]
[]
[]
[]
[]
[null,11]
[]
[]
[]
[]
[]
[null,12]
[]
[]
[]
[]
[]
[null,13]
[]
[]
[]
[]
[]
[null,14]
[]
[]
[]
[]
[]
[null,15]
[]
[]
[]
[]
[]
[null,16]
[]
[]
[]
[]
[]
[null,17]
[]
[]
[]
[]
[]
[null,18]
[]
[]
[]
[]
[]
[null,19]
[]
[]
[]
[]
[]
[null,20]
[]
[]
[]
[]
[]
[null,21]
[]
[]
[]
[]
[]
[null,22]
[]
[]
[]
[]
[]
[null,23]
[]
[]
[]
[]
[]
[null,24]
[]
[]
[]
[]
[]
[null,25]

{"sheet":"M2","index":16,"n_rows":167,"n_cols":14,"rows_kept":167,"cut":false,"hidden":true,"merged":[[5,1,5,2],[1,1,1,3],[3,1,3,2],[4,1,4,2],[6,1,6,2],[19,4,19,13],[20,0,21,0],[20,1,21,2],[20,3,21,3],[14,2,14,3],[15,2,15,3],[16,2,16,3],[17,2,17,3],[18,2,18,3],[22,1,27,1],[22,2,27,2],[28,1,33,1],[28,2,33,2],[34,1,39,1],[34,2,39,2],[40,1,45,1],[40,2,45,2],[46,1,51,1],[46,2,51,2],[52,1,57,1],[52,2,57,2],[82,1,87,1],[82,2,87,2],[88,1,93,1],[88,2,93,2],[58,1,63,1],[58,2,63,2],[64,1,69,1],[64,2,69,2],[70,1,75,1],[70,2,75,2],[76,1,81,1],[76,2,81,2],[13,2,13,3],[148,1,153,1],[148,2,153,2],[154,1,159,1],[154,2,159,2],[130,1,135,1],[130,2,135,2],[136,1,141,1],[142,2,147,2],[112,1,117,1],[112,2,117,2],[118,1,123,1],[118,2,123,2],[124,1,129,1],[94,1,99,1],[94,2,99,2],[8,2,8,3],[9,2,9,3],[10,2,10,3],[11,2,11,3],[12,2,12,3],[100,1,105,1],[100,2,105,2],[106,1,111,1],[172,1,172,3],[172,4,172,13],[160,1,165,1],[160,2,165,2],[124,2,129,2],[166,1,171,1],[166,2,171,2],[106,2,111,2],[136,2,141,2],[142,1,147,1]]}
[]
[null,"MÓDULO 2: \nDEFINICIÓN DE UNIDADES DE APRENDIZAJE (UA) PARA CADA MÓDULO"]
[]
[null,"ID:",null,{"$f":"'CE 1'!B11","v":2}]
[null,"NOMBRE:"]
[null,"PROPÓSITO:"]
[null,"TIPO:"]
[]
[null,"ID","UNIDADES DE APRENDIZAJE"]
[null,{"$f":"IF('M2'!$C10<>\"\",1,\"\")","v":""}]
[null,{"$f":"IF('M2'!$C11<>\"\",2,\"\")","v":""}]
[null,{"$f":"IF('M2'!$C12<>\"\",3,\"\")","v":""}]
[null,{"$f":"IF('M2'!$C13<>\"\",4,\"\")","v":""}]
[null,{"$f":"IF('M2'!$C14<>\"\",5,\"\")","v":""}]
[null,{"$f":"IF('M2'!$C15<>\"\",6,\"\")","v":""}]
[null,{"$f":"IF('M2'!$C16<>\"\",7,\"\")","v":""}]
[null,{"$f":"IF('M2'!$C17<>\"\",8,\"\")","v":""}]
[null,{"$f":"IF('M2'!$C18<>\"\",9,\"\")","v":""}]
[null,{"$f":"IF('M2'!$C19<>\"\",10,\"\")","v":""}]
[null,null,null,null,"Unidades Aprendizaje"]
[null,"CAPACIDADES PROCEDIMENTALES\n(hacer)",null,"ANÁLISIS DE CAPACIDADES \nPROCEDIMENTALES (hacer) PARA DEFINIR \nUNIDADES DE APRENDIZAJE"]
[null,null,null,null,{"$f":"B10","v":""},{"$f":"B11","v":""},{"$f":"B12","v":""},{"$f":"B13","v":""},{"$f":"B14","v":""},{"$f":"B15","v":""},{"$f":"B16","v":""},{"$f":"B17","v":""},{"$f":"B18","v":""},{"$f":"B19","v":""}]
[null,1]
[]
[]
[]
[]
[]
[null,2]
[]
[]
[]
[]
[]
[null,3]
[]
[]
[]
[]
[]
[null,4]
[]
[]
[]
[]
[]
[null,5]
[]
[]
[]
[]
[]
[null,6]
[]
[]
[]
[]
[]
[null,7]
[]
[]
[]
[]
[]
[null,8]
[]
[]
[]
[]
[]
[null,9]
[]
[]
[]
[]
[null,null,null,null,null,null,null,null,null,null,null,null,"X"]
[null,10]
[]
[]
[]
[]
[]
[null,11]
[]
[]
[]
[]
[]
[null,12]
[]
[]
[]
[]
[]
[null,13]
[]
[]
[]
[]
[]
[null,14]
[]
[]
[]
[]
[]
[null,15]
[]
[]
[]
[]
[]
[null,16]
[]
[]
[]
[]
[]
[null,17]
[]
[]
[]
[]
[]
[null,18]
[]
[]
[]
[]
[]
[null,19]
[]
[]
[]
[]
[]
[null,20]
[]
[]
[]
[]
[]
[null,21]
[]
[]
[]
[]
[]
[null,22]
[]
[]
[]
[]
[]
[null,23]
[]
[]
[]
[]
[]
[null,24]
[]
[]
[]
[]
[]
[null,25]

{"sheet":"M3","index":17,"n_rows":167,"n_cols":14,"rows_kept":167,"cut":false,"hidden":true,"merged":[[172,4,172,13],[142,1,147,1],[142,2,147,2],[148,1,153,1],[148,2,153,2],[154,1,159,1],[154,2,159,2],[160,1,165,1],[160,2,165,2],[166,1,171,1],[166,2,171,2],[172,1,172,3],[124,1,129,1],[124,2,129,2],[130,1,135,1],[130,2,135,2],[136,1,141,1],[136,2,141,2],[106,1,111,1],[106,2,111,2],[112,1,117,1],[112,2,117,2],[118,1,123,1],[118,2,123,2],[88,1,93,1],[88,2,93,2],[94,1,99,1],[94,2,99,2],[100,1,105,1],[100,2,105,2],[70,1,75,1],[70,2,75,2],[76,1,81,1],[76,2,81,2],[82,1,87,1],[82,2,87,2],[52,1,57,1],[52,2,57,2],[58,1,63,1],[58,2,63,2],[64,1,69,1],[64,2,69,2],[34,1,39,1],[34,2,39,2],[40,1,45,1],[40,2,45,2],[46,1,51,1],[46,2,51,2],[20,0,21,0],[20,1,21,2],[20,3,21,3],[22,1,27,1],[22,2,27,2],[28,1,33,1],[28,2,33,2],[14,2,14,3],[15,2,15,3],[16,2,16,3],[17,2,17,3],[18,2,18,3],[19,4,19,13],[8,2,8,3],[9,2,9,3],[10,2,10,3],[11,2,11,3],[12,2,12,3],[13,2,13,3],[1,1,1,3],[3,1,3,2],[4,1,4,2],[5,1,5,2],[6,1,6,2]]}
[]
[null,"MÓDULO 3: \nDEFINICIÓN DE UNIDADES DE APRENDIZAJE (UA) PARA CADA MÓDULO"]
[]
[null,"ID:",null,{"$f":"'CE 1'!B12","v":""}]
[null,"NOMBRE:"]
[null,"PROPÓSITO:"]
[null,"TIPO:"]
[]
[null,"ID","UNIDADES DE APRENDIZAJE"]
[null,{"$f":"IF('M3'!$C10<>\"\",1,\"\")","v":""}]
[null,{"$f":"IF('M3'!$C11<>\"\",2,\"\")","v":""}]
[null,{"$f":"IF('M3'!$C12<>\"\",3,\"\")","v":""}]
[null,{"$f":"IF('M3'!$C13<>\"\",4,\"\")","v":""}]
[null,{"$f":"IF('M3'!$C14<>\"\",5,\"\")","v":""}]
[null,{"$f":"IF('M3'!$C15<>\"\",6,\"\")","v":""}]
[null,{"$f":"IF('M3'!$C16<>\"\",7,\"\")","v":""}]
[null,{"$f":"IF('M3'!$C17<>\"\",8,\"\")","v":""}]
[null,{"$f":"IF('M3'!$C18<>\"\",9,\"\")","v":""}]
[null,{"$f":"IF('M3'!$C19<>\"\",10,\"\")","v":""}]
[null,null,null,null,"Unidades Aprendizaje"]
[null,"CAPACIDADES PROCEDIMENTALES\n(hacer)",null,"ANÁLISIS DE CAPACIDADES \nPROCEDIMENTALES (hacer) PARA DEFINIR \nUNIDADES DE APRENDIZAJE"]
[null,null,null,null,{"$f":"B10","v":""},{"$f":"B11","v":""},{"$f":"B12","v":""},{"$f":"B13","v":""},{"$f":"B14","v":""},{"$f":"B15","v":""},{"$f":"B16","v":""},{"$f":"B17","v":""},{"$f":"B18","v":""},{"$f":"B19","v":""}]
[null,1]
[]
[]
[]
[]
[]
[null,2]
[]
[]
[]
[]
[]
[null,3]
[]
[]
[]
[]
[]
[null,4]
[]
[]
[]
[]
[]
[null,5]
[]
[]
[]
[]
[]
[null,6]
[]
[]
[]
[]
[]
[null,7]
[]
[]
[]
[]
[]
[null,8]
[]
[]
[]
[]
[]
[null,9]
[]
[]
[]
[]
[]
[null,10]
[]
[]
[]
[]
[]
[null,11]
[]
[]
[]
[]
[]
[null,12]
[]
[]
[]
[]
[]
[null,13]
[]
[]
[]
[]
[]
[null,14]
[]
[]
[]
[]
[]
[null,15]
[]
[]
[]
[]
[]
[null,16]
[]
[]
[]
[]
[]
[null,17]
[]
[]
[]
[]
[]
[null,18]
[]
[]
[]
[]
[]
[null,19]
[]
[]
[]
[]
[]
[null,20]
[]
[]
[]
[]
[]
[null,21]
[]
[]
[]
[]
[]
[null,22]
[]
[]
[]
[]
[]
[null,23]
[]
[]
[]
[]
[]
[null,24]
[]
[]
[]
[]
[]
[null,25]

{"sheet":"M4","index":18,"n_rows":167,"n_cols":14,"rows_kept":167,"cut":false,"hidden":true,"merged":[[172,4,172,13],[142,1,147,1],[142,2,147,2],[148,1,153,1],[148,2,153,2],[154,1,159,1],[154,2,159,2],[160,1,165,1],[160,2,165,2],[166,1,171,1],[166,2,171,2],[172,1,172,3],[124,1,129,1],[124,2,129,2],[130,1,135,1],[130,2,135,2],[136,1,141,1],[136,2,141,2],[106,1,111,1],[106,2,111,2],[112,1,117,1],[112,2,117,2],[118,1,123,1],[118,2,123,2],[88,1,93,1],[88,2,93,2],[94,1,99,1],[94,2,99,2],[100,1,105,1],[100,2,105,2],[70,1,75,1],[70,2,75,2],[76,1,81,1],[76,2,81,2],[82,1,87,1],[82,2,87,2],[52,1,57,1],[52,2,57,2],[58,1,63,1],[58,2,63,2],[64,1,69,1],[64,2,69,2],[34,1,39,1],[34,2,39,2],[40,1,45,1],[40,2,45,2],[46,1,51,1],[46,2,51,2],[20,0,21,0],[20,1,21,2],[20,3,21,3],[22,1,27,1],[22,2,27,2],[28,1,33,1],[28,2,33,2],[14,2,14,3],[15,2,15,3],[16,2,16,3],[17,2,17,3],[18,2,18,3],[19,4,19,13],[8,2,8,3],[9,2,9,3],[10,2,10,3],[11,2,11,3],[12,2,12,3],[13,2,13,3],[1,1,1,3],[3,1,3,2],[4,1,4,2],[5,1,5,2],[6,1,6,2]]}
[]
[null,"MÓDULO 4: \nDEFINICIÓN DE UNIDADES DE APRENDIZAJE (UA) PARA CADA MÓDULO"]
[]
[null,"ID:",null,{"$f":"'CE 1'!B13","v":""}]
[null,"NOMBRE:"]
[null,"PROPÓSITO:"]
[null,"TIPO:"]
[]
[null,"ID","UNIDADES DE APRENDIZAJE"]
[null,{"$f":"IF('M4'!$C10<>\"\",1,\"\")","v":""}]
[null,{"$f":"IF('M4'!$C11<>\"\",2,\"\")","v":""}]
[null,{"$f":"IF('M4'!$C12<>\"\",3,\"\")","v":""}]
[null,{"$f":"IF('M4'!$C13<>\"\",4,\"\")","v":""}]
[null,{"$f":"IF('M4'!$C14<>\"\",5,\"\")","v":""}]
[null,{"$f":"IF('M4'!$C15<>\"\",6,\"\")","v":""}]
[null,{"$f":"IF('M4'!$C16<>\"\",7,\"\")","v":""}]
[null,{"$f":"IF('M4'!$C17<>\"\",8,\"\")","v":""}]
[null,{"$f":"IF('M4'!$C18<>\"\",9,\"\")","v":""}]
[null,{"$f":"IF('M4'!$C19<>\"\",10,\"\")","v":""}]
[null,null,null,null,"Unidades Aprendizaje"]
[null,"CAPACIDADES PROCEDIMENTALES\n(hacer)",null,"ANÁLISIS DE CAPACIDADES \nPROCEDIMENTALES (hacer) PARA DEFINIR \nUNIDADES DE APRENDIZAJE"]
[null,null,null,null,{"$f":"B10","v":""},{"$f":"B11","v":""},{"$f":"B12","v":""},{"$f":"B13","v":""},{"$f":"B14","v":""},{"$f":"B15","v":""},{"$f":"B16","v":""},{"$f":"B17","v":""},{"$f":"B18","v":""},{"$f":"B19","v":""}]
[null,1]
[]
[]
[]
[]
[]
[null,2]
[]
[]
[]
[]
[]
[null,3]
[]
[]
[]
[]
[]
[null,4]
[]
[]
[]
[]
[]
[null,5]
[]
[]
[]
[]
[]
[null,6]
[]
[]
[]
[]
[]
[null,7]
[]
[]
[]
[]
[]
[null,8]
[]
[]
[]
[]
[]
[null,9]
[]
[]
[]
[]
[null,null,null,null,null,null,null,null,null,null,null,null,"X"]
[null,10]
[]
[]
[]
[]
[]
[null,11]
[]
[]
[]
[]
[]
[null,12]
[]
[]
[]
[]
[]
[null,13]
[]
[]
[]
[]
[]
[null,14]
[]
[]
[]
[]
[]
[null,15]
[]
[]
[]
[]
[]
[null,16]
[]
[]
[]
[]
[]
[null,17]
[]
[]
[]
[]
[]
[null,18]
[]
[]
[]
[]
[]
[null,19]
[]
[]
[]
[]
[]
[null,20]
[]
[]
[]
[]
[]
[null,21]
[]
[]
[]
[]
[]
[null,22]
[]
[]
[]
[]
[]
[null,23]
[]
[]
[]
[]
[]
[null,24]
[]
[]
[]
[]
[]
[null,25]

{"sheet":"M5","index":19,"n_rows":167,"n_cols":14,"rows_kept":167,"cut":false,"hidden":true,"merged":[[172,4,172,13],[142,1,147,1],[142,2,147,2],[148,1,153,1],[148,2,153,2],[154,1,159,1],[154,2,159,2],[160,1,165,1],[160,2,165,2],[166,1,171,1],[166,2,171,2],[172,1,172,3],[124,1,129,1],[124,2,129,2],[130,1,135,1],[130,2,135,2],[136,1,141,1],[136,2,141,2],[106,1,111,1],[106,2,111,2],[112,1,117,1],[112,2,117,2],[118,1,123,1],[118,2,123,2],[88,1,93,1],[88,2,93,2],[94,1,99,1],[94,2,99,2],[100,1,105,1],[100,2,105,2],[70,1,75,1],[70,2,75,2],[76,1,81,1],[76,2,81,2],[82,1,87,1],[82,2,87,2],[52,1,57,1],[52,2,57,2],[58,1,63,1],[58,2,63,2],[64,1,69,1],[64,2,69,2],[34,1,39,1],[34,2,39,2],[40,1,45,1],[40,2,45,2],[46,1,51,1],[46,2,51,2],[20,0,21,0],[20,1,21,2],[20,3,21,3],[22,1,27,1],[22,2,27,2],[28,1,33,1],[28,2,33,2],[14,2,14,3],[15,2,15,3],[16,2,16,3],[17,2,17,3],[18,2,18,3],[19,4,19,13],[8,2,8,3],[9,2,9,3],[10,2,10,3],[11,2,11,3],[12,2,12,3],[13,2,13,3],[1,1,1,3],[3,1,3,2],[4,1,4,2],[5,1,5,2],[6,1,6,2]]}
[]
[null,"MÓDULO 5: \nDEFINICIÓN DE UNIDADES DE APRENDIZAJE (UA) PARA CADA MÓDULO"]
[]
[null,"ID:",null,{"$f":"'CE 1'!B14","v":""}]
[null,"NOMBRE:"]
[null,"PROPÓSITO:"]
[null,"TIPO:"]
[]
[null,"ID","UNIDADES DE APRENDIZAJE"]
[null,{"$f":"IF('M5'!$C10<>\"\",1,\"\")","v":""}]
[null,{"$f":"IF('M5'!$C11<>\"\",2,\"\")","v":""}]
[null,{"$f":"IF('M5'!$C12<>\"\",3,\"\")","v":""}]
[null,{"$f":"IF('M5'!$C13<>\"\",4,\"\")","v":""}]
[null,{"$f":"IF('M5'!$C14<>\"\",5,\"\")","v":""}]
[null,{"$f":"IF('M5'!$C15<>\"\",6,\"\")","v":""}]
[null,{"$f":"IF('M5'!$C16<>\"\",7,\"\")","v":""}]
[null,{"$f":"IF('M5'!$C17<>\"\",8,\"\")","v":""}]
[null,{"$f":"IF('M5'!$C18<>\"\",9,\"\")","v":""}]
[null,{"$f":"IF('M5'!$C19<>\"\",10,\"\")","v":""}]
[null,null,null,null,"Unidades Aprendizaje"]
[null,"CAPACIDADES PROCEDIMENTALES\n(hacer)",null,"ANÁLISIS DE CAPACIDADES \nPROCEDIMENTALES (hacer) PARA DEFINIR \nUNIDADES DE APRENDIZAJE"]
[null,null,null,null,{"$f":"B10","v":""},{"$f":"B11","v":""},{"$f":"B12","v":""},{"$f":"B13","v":""},{"$f":"B14","v":""},{"$f":"B15","v":""},{"$f":"B16","v":""},{"$f":"B17","v":""},{"$f":"B18","v":""},{"$f":"B19","v":""}]
[null,1]
[]
[]
[]
[]
[]
[null,2]
[]
[]
[]
[]
[]
[null,3]
[]
[]
[]
[]
[]
[null,4]
[]
[]
[]
[]
[]
[null,5]
[]
[]
[]
[]
[]
[null,6]
[]
[]
[]
[]
[]
[null,7]
[]
[]
[]
[]
[]
[null,8]
[]
[]
[]
[]
[]
[null,9]
[]
[]
[]
[]
[null,null,null,null,null,null,null,null,null,null,null,null,"X"]
[null,10]
[]
[]
[]
[]
[]
[null,11]
[]
[]
[]
[]
[]
[null,12]
[]
[]
[]
[]
[]
[null,13]
[]
[]
[]
[]
[]
[null,14]
[]
[]
[]
[]
[]
[null,15]
[]
[]
[]
[]
[]
[null,16]
[]
[]
[]
[]
[]
[null,17]
[]
[]
[]
[]
[]
[null,18]
[]
[]
[]
[]
[]
[null,19]
[]
[]
[]
[]
[]
[null,20]
[]
[]
[]
[]
[]
[null,21]
[]
[]
[]
[]
[]
[null,22]
[]
[]
[]
[]
[]
[null,23]
[]
[]
[]
[]
[]
[null,24]
[]
[]
[]
[]
[]
[null,25]

{"sheet":"M6","index":20,"n_rows":167,"n_cols":14,"rows_kept":167,"cut":false,"hidden":true,"merged":[[172,4,172,13],[142,1,147,1],[142,2,147,2],[148,1,153,1],[148,2,153,2],[154,1,159,1],[154,2,159,2],[160,1,165,1],[160,2,165,2],[166,1,171,1],[166,2,171,2],[172,1,172,3],[124,1,129,1],[124,2,129,2],[130,1,135,1],[130,2,135,2],[136,1,141,1],[136,2,141,2],[106,1,111,1],[106,2,111,2],[112,1,117,1],[112,2,117,2],[118,1,123,1],[118,2,123,2],[88,1,93,1],[88,2,93,2],[94,1,99,1],[94,2,99,2],[100,1,105,1],[100,2,105,2],[70,1,75,1],[70,2,75,2],[76,1,81,1],[76,2,81,2],[82,1,87,1],[82,2,87,2],[52,1,57,1],[52,2,57,2],[58,1,63,1],[58,2,63,2],[64,1,69,1],[64,2,69,2],[34,1,39,1],[34,2,39,2],[40,1,45,1],[40,2,45,2],[46,1,51,1],[46,2,51,2],[20,0,21,0],[20,1,21,2],[20,3,21,3],[22,1,27,1],[22,2,27,2],[28,1,33,1],[28,2,33,2],[14,2,14,3],[15,2,15,3],[16,2,16,3],[17,2,17,3],[18,2,18,3],[19,4,19,13],[8,2,8,3],[9,2,9,3],[10,2,10,3],[11,2,11,3],[12,2,12,3],[13,2,13,3],[1,1,1,3],[3,1,3,2],[4,1,4,2],[5,1,5,2],[6,1,6,2]]}
[]
[null,"MÓDULO 6: \nDEFINICIÓN DE UNIDADES DE APRENDIZAJE (UA) PARA CADA MÓDULO"]
[]
[null,"ID:",null,{"$f":"'CE 1'!B15","v":""}]
[null,"NOMBRE:"]
[null,"PROPÓSITO:"]
[null,"TIPO:"]
[]
[null,"ID","UNIDADES DE APRENDIZAJE"]
[null,{"$f":"IF('M6'!$C10<>\"\",1,\"\")","v":""}]
[null,{"$f":"IF('M6'!$C11<>\"\",2,\"\")","v":""}]
[null,{"$f":"IF('M6'!$C12<>\"\",3,\"\")","v":""}]
[null,{"$f":"IF('M6'!$C13<>\"\",4,\"\")","v":""}]
[null,{"$f":"IF('M6'!$C14<>\"\",5,\"\")","v":""}]
[null,{"$f":"IF('M6'!$C15<>\"\",6,\"\")","v":""}]
[null,{"$f":"IF('M6'!$C16<>\"\",7,\"\")","v":""}]
[null,{"$f":"IF('M6'!$C17<>\"\",8,\"\")","v":""}]
[null,{"$f":"IF('M6'!$C18<>\"\",9,\"\")","v":""}]
[null,{"$f":"IF('M6'!$C19<>\"\",10,\"\")","v":""}]
[null,null,null,null,"Unidades Aprendizaje"]
[null,"CAPACIDADES PROCEDIMENTALES\n(hacer)",null,"ANÁLISIS DE CAPACIDADES \nPROCEDIMENTALES (hacer) PARA DEFINIR \nUNIDADES DE APRENDIZAJE"]
[null,null,null,null,{"$f":"B10","v":""},{"$f":"B11","v":""},{"$f":"B12","v":""},{"$f":"B13","v":""},{"$f":"B14","v":""},{"$f":"B15","v":""},{"$f":"B16","v":""},{"$f":"B17","v":""},{"$f":"B18","v":""},{"$f":"B19","v":""}]
[null,1]
[null,null,null,null,null,null,"E"]
[]
[]
[]
[]
[null,2]
[]
[]
[]
[]
[]
[null,3]
[]
[]
[]
[]
[]
[null,4]
[]
[]
[]
[]
[]
[null,5]
[]
[]
[]
[]
[]
[null,6]
[]
[]
[]
[]
[]
[null,7]
[]
[]
[]
[]
[]
[null,8]
[]
[]
[]
[]
[]
[null,9]
[]
[]
[]
[]
[]
[null,10]
[]
[]
[]
[]
[]
[null,11]
[]
[]
[]
[]
[]
[null,12]
[]
[]
[]
[]
[]
[null,13]
[]
[]
[]
[]
[]
[null,14]
[]
[]
[]
[]
[]
[null,15]
[]
[]
[]
[]
[]
[null,16]
[]
[]
[]
[]
[]
[null,17]
[]
[]
[]
[]
[]
[null,18]
[]
[]
[]
[]
[]
[null,19]
[]
[]
[]
[]
[]
[null,20]
[]
[]
[]
[]
[]
[null,21]
[]
[]
[]
[]
[]
[null,22]
[]
[]
[]
[]
[]
[null,23]
[]
[]
[]
[]
[]
[null,24]
[]
[]
[]
[]
[]
[null,25]

{"sheet":"M7","index":21,"n_rows":167,"n_cols":14,"rows_kept":167,"cut":false,"hidden":true,"merged":[[1,1,1,3],[3,1,3,2],[4,1,4,2],[5,1,5,2],[6,1,6,2],[8,2,8,3],[9,2,9,3],[10,2,10,3],[11,2,11,3],[12,2,12,3],[13,2,13,3],[14,2,14,3],[15,2,15,3],[16,2,16,3],[17,2,17,3],[18,2,18,3],[19,4,19,13],[20,0,21,0],[20,1,21,2],[20,3,21,3],[22,1,27,1],[22,2,27,2],[34,1,39,1],[34,2,39,2],[28,1,33,1],[28,2,33,2],[40,1,45,1],[40,2,45,2],[46,1,51,1],[46,2,51,2],[52,1,57,1],[52,2,57,2],[58,1,63,1],[58,2,63,2],[64,1,69,1],[64,2,69,2],[70,1,75,1],[70,2,75,2],[76,1,81,1],[76,2,81,2],[82,1,87,1],[82,2,87,2],[88,1,93,1],[88,2,93,2],[94,1,99,1],[94,2,99,2],[100,1,105,1],[100,2,105,2],[106,1,111,1],[106,2,111,2],[112,1,117,1],[112,2,117,2],[118,1,123,1],[118,2,123,2],[124,1,129,1],[124,2,129,2],[130,1,135,1],[130,2,135,2],[136,1,141,1],[136,2,141,2],[172,4,172,13],[142,1,147,1],[142,2,147,2],[148,1,153,1],[148,2,153,2],[154,1,159,1],[154,2,159,2],[160,1,165,1],[160,2,165,2],[166,1,171,1],[166,2,171,2],[172,1,172,3]]}
[]
[null,"MÓDULO 7: \nDEFINICIÓN DE UNIDADES DE APRENDIZAJE (UA) PARA CADA MÓDULO"]
[]
[null,"ID:",null,{"$f":"'CE 1'!B16","v":""}]
[null,"NOMBRE:"]
[null,"PROPÓSITO:"]
[null,"TIPO:"]
[]
[null,"ID","UNIDADES DE APRENDIZAJE"]
[null,{"$f":"IF('M7'!$C10<>\"\",1,\"\")","v":""}]
[null,{"$f":"IF('M7'!$C11<>\"\",2,\"\")","v":""}]
[null,{"$f":"IF('M7'!$C12<>\"\",3,\"\")","v":""}]
[null,{"$f":"IF('M7'!$C13<>\"\",4,\"\")","v":""}]
[null,{"$f":"IF('M7'!$C14<>\"\",5,\"\")","v":""}]
[null,{"$f":"IF('M7'!$C15<>\"\",6,\"\")","v":""}]
[null,{"$f":"IF('M7'!$C16<>\"\",7,\"\")","v":""}]
[null,{"$f":"IF('M7'!$C17<>\"\",8,\"\")","v":""}]
[null,{"$f":"IF('M7'!$C18<>\"\",9,\"\")","v":""}]
[null,{"$f":"IF('M7'!$C19<>\"\",10,\"\")","v":""}]
[null,null,null,null,"Unidades Aprendizaje"]
[null,"CAPACIDADES PROCEDIMENTALES\n(hacer)",null,"ANÁLISIS DE CAPACIDADES \nPROCEDIMENTALES (hacer) PARA DEFINIR \nUNIDADES DE APRENDIZAJE"]
[null,null,null,null,{"$f":"B10","v":""},{"$f":"B11","v":""},{"$f":"B12","v":""},{"$f":"B13","v":""},{"$f":"B14","v":""},{"$f":"B15","v":""},{"$f":"B16","v":""},{"$f":"B17","v":""},{"$f":"B18","v":""},{"$f":"B19","v":""}]
[null,1]
[]
[]
[]
[]
[]
[null,2]
[]
[]
[]
[]
[]
[null,3]
[]
[]
[]
[]
[]
[null,4]
[]
[]
[]
[]
[]
[null,5]
[]
[]
[]
[]
[]
[null,6]
[]
[]
[]
[]
[]
[null,7]
[]
[]
[]
[]
[]
[null,8]
[]
[]
[]
[]
[]
[null,9]
[]
[]
[]
[]
[null,null,null,null,null,null,null,null,null,null,null,null,"X"]
[null,10]
[]
[]
[]
[]
[]
[null,11]
[]
[]
[]
[]
[]
[null,12]
[]
[]
[]
[]
[]
[null,13]
[]
[]
[]
[]
[]
[null,14]
[]
[]
[]
[]
[]
[null,15]
[]
[]
[]
[]
[]
[null,16]
[]
[]
[]
[]
[]
[null,17]
[]
[]
[]
[]
[]
[null,18]
[]
[]
[]
[]
[]
[null,19]
[]
[]
[]
[]
[]
[null,20]
[]
[]
[]
[]
[]
[null,21]
[]
[]
[]
[]
[]
[null,22]
[]
[]
[]
[]
[]
[null,23]
[]
[]
[]
[]
[]
[null,24]
[]
[]
[]
[]
[]
[null,25]

{"sheet":"M8","index":22,"n_rows":167,"n_cols":14,"rows_kept":167,"cut":false,"hidden":true,"merged":[[1,1,1,3],[3,1,3,2],[4,1,4,2],[5,1,5,2],[6,1,6,2],[8,2,8,3],[9,2,9,3],[10,2,10,3],[11,2,11,3],[12,2,12,3],[13,2,13,3],[14,2,14,3],[15,2,15,3],[16,2,16,3],[17,2,17,3],[18,2,18,3],[19,4,19,13],[20,0,21,0],[20,1,21,2],[20,3,21,3],[22,1,27,1],[22,2,27,2],[34,1,39,1],[34,2,39,2],[28,1,33,1],[28,2,33,2],[40,1,45,1],[40,2,45,2],[46,1,51,1],[46,2,51,2],[52,1,57,1],[52,2,57,2],[58,1,63,1],[58,2,63,2],[64,1,69,1],[64,2,69,2],[70,1,75,1],[70,2,75,2],[76,1,81,1],[76,2,81,2],[82,1,87,1],[82,2,87,2],[88,1,93,1],[88,2,93,2],[94,1,99,1],[94,2,99,2],[100,1,105,1],[100,2,105,2],[106,1,111,1],[106,2,111,2],[112,1,117,1],[112,2,117,2],[118,1,123,1],[118,2,123,2],[124,1,129,1],[124,2,129,2],[130,1,135,1],[130,2,135,2],[136,1,141,1],[136,2,141,2],[172,4,172,13],[142,1,147,1],[142,2,147,2],[148,1,153,1],[148,2,153,2],[154,1,159,1],[154,2,159,2],[160,1,165,1],[160,2,165,2],[166,1,171,1],[166,2,171,2],[172,1,172,3]]}
[]
[null,"MÓDULO 8: \nDEFINICIÓN DE UNIDADES DE APRENDIZAJE (UA) PARA CADA MÓDULO"]
[]
[null,"ID:",null,{"$f":"'CE 1'!B17","v":""}]
[null,"NOMBRE:"]
[null,"PROPÓSITO:"]
[null,"TIPO:"]
[]
[null,"ID","UNIDADES DE APRENDIZAJE"]
[null,{"$f":"IF('M8'!$C10<>\"\",1,\"\")","v":""}]
[null,{"$f":"IF('M8'!$C11<>\"\",2,\"\")","v":""}]
[null,{"$f":"IF('M8'!$C12<>\"\",3,\"\")","v":""}]
[null,{"$f":"IF('M8'!$C13<>\"\",4,\"\")","v":""}]
[null,{"$f":"IF('M8'!$C14<>\"\",5,\"\")","v":""}]
[null,{"$f":"IF('M8'!$C15<>\"\",6,\"\")","v":""}]
[null,{"$f":"IF('M8'!$C16<>\"\",7,\"\")","v":""}]
[null,{"$f":"IF('M8'!$C17<>\"\",8,\"\")","v":""}]
[null,{"$f":"IF('M8'!$C18<>\"\",9,\"\")","v":""}]
[null,{"$f":"IF('M8'!$C19<>\"\",10,\"\")","v":""}]
[null,null,null,null,"Unidades Aprendizaje"]
[null,"CAPACIDADES PROCEDIMENTALES\n(hacer)",null,"ANÁLISIS DE CAPACIDADES \nPROCEDIMENTALES (hacer) PARA DEFINIR \nUNIDADES DE APRENDIZAJE"]
[null,null,null,null,{"$f":"B10","v":""},{"$f":"B11","v":""},{"$f":"B12","v":""},{"$f":"B13","v":""},{"$f":"B14","v":""},{"$f":"B15","v":""},{"$f":"B16","v":""},{"$f":"B17","v":""},{"$f":"B18","v":""},{"$f":"B19","v":""}]
[null,1]
[]
[]
[]
[]
[]
[null,2]
[]
[]
[]
[]
[]
[null,3]
[]
[]
[]
[]
[]
[null,4]
[]
[]
[]
[]
[]
[null,5]
[]
[]
[]
[]
[]
[null,6]
[]
[]
[]
[]
[]
[null,7]
[]
[]
[]
[]
[]
[null,8]
[]
[]
[]
[]
[]
[null,9]
[]
[]
[]
[]
[null,null,null,null,null,null,null,null,null,null,null,null,"X"]
[null,10]
[]
[]
[]
[]
[]
[null,11]
[]
[]
[]
[]
[]
[null,12]
[]
[]
[]
[]
[]
[null,13]
[]
[]
[]
[]
[]
[null,14]
[]
[]
[]
[]
[]
[null,15]
[]
[]
[]
[]
[]
[null,16]
[]
[]
[]
[]
[]
[null,17]
[]
[]
[]
[]
[]
[null,18]
[]
[]
[]
[]
[]
[null,19]
[]
[]
[]
[]
[]
[null,20]
[]
[]
[]
[]
[]
[null,21]
[]
[]
[]
[]
[]
[null,22]
[]
[]
[]
[]
[]
[null,23]
[]
[]
[]
[]
[]
[null,24]
[]
[]
[]
[]
[]
[null,25]

{"sheet":"M9","index":23,"n_rows":167,"n_cols":14,"rows_kept":167,"cut":false,"hidden":true,"merged":[[1,1,1,3],[3,1,3,2],[4,1,4,2],[5,1,5,2],[6,1,6,2],[8,2,8,3],[9,2,9,3],[10,2,10,3],[11,2,11,3],[12,2,12,3],[13,2,13,3],[14,2,14,3],[15,2,15,3],[16,2,16,3],[17,2,17,3],[18,2,18,3],[19,4,19,13],[20,0,21,0],[20,1,21,2],[20,3,21,3],[22,1,27,1],[22,2,27,2],[34,1,39,1],[34,2,39,2],[28,1,33,1],[28,2,33,2],[40,1,45,1],[40,2,45,2],[46,1,51,1],[46,2,51,2],[52,1,57,1],[52,2,57,2],[58,1,63,1],[58,2,63,2],[64,1,69,1],[64,2,69,2],[70,1,75,1],[70,2,75,2],[76,1,81,1],[76,2,81,2],[82,1,87,1],[82,2,87,2],[88,1,93,1],[88,2,93,2],[94,1,99,1],[94,2,99,2],[100,1,105,1],[100,2,105,2],[106,1,111,1],[106,2,111,2],[112,1,117,1],[112,2,117,2],[118,1,123,1],[118,2,123,2],[124,1,129,1],[124,2,129,2],[130,1,135,1],[130,2,135,2],[136,1,141,1],[136,2,141,2],[172,4,172,13],[142,1,147,1],[142,2,147,2],[148,1,153,1],[148,2,153,2],[154,1,159,1],[154,2,159,2],[160,1,165,1],[160,2,165,2],[166,1,171,1],[166,2,171,2],[172,1,172,3]]}
[]
[null,"MÓDULO 9: \nDEFINICIÓN DE UNIDADES DE APRENDIZAJE (UA) PARA CADA MÓDULO"]
[]
[null,"ID:",null,{"$f":"'CE 1'!B18","v":""}]
[null,"NOMBRE:"]
[null,"PROPÓSITO:"]
[null,"TIPO:"]
[]
[null,"ID","UNIDADES DE APRENDIZAJE"]
[null,{"$f":"IF('M9'!$C10<>\"\",1,\"\")","v":""}]
[null,{"$f":"IF('M9'!$C11<>\"\",2,\"\")","v":""}]
[null,{"$f":"IF('M9'!$C12<>\"\",3,\"\")","v":""}]
[null,{"$f":"IF('M9'!$C13<>\"\",4,\"\")","v":""}]
[null,{"$f":"IF('M9'!$C14<>\"\",5,\"\")","v":""}]
[null,{"$f":"IF('M9'!$C15<>\"\",6,\"\")","v":""}]
[null,{"$f":"IF('M9'!$C16<>\"\",7,\"\")","v":""}]
[null,{"$f":"IF('M9'!$C17<>\"\",8,\"\")","v":""}]
[null,{"$f":"IF('M9'!$C18<>\"\",9,\"\")","v":""}]
[null,{"$f":"IF('M9'!$C19<>\"\",10,\"\")","v":""}]
[null,null,null,null,"Unidades Aprendizaje"]
[null,"CAPACIDADES PROCEDIMENTALES\n(hacer)",null,"ANÁLISIS DE CAPACIDADES \nPROCEDIMENTALES (hacer) PARA DEFINIR \nUNIDADES DE APRENDIZAJE"]
[null,null,null,null,{"$f":"B10","v":""},{"$f":"B11","v":""},{"$f":"B12","v":""},{"$f":"B13","v":""},{"$f":"B14","v":""},{"$f":"B15","v":""},{"$f":"B16","v":""},{"$f":"B17","v":""},{"$f":"B18","v":""},{"$f":"B19","v":""}]
[null,1]
[]
[null,null,null,null,null,"A"]
[]
[]
[]
[null,2]
[]
[]
[]
[]
[]
[null,3]
[]
[]
[]
[]
[]
[null,4]
[]
[]
[]
[]
[]
[null,5]
[]
[]
[]
[]
[]
[null,6]
[]
[]
[]
[]
[]
[null,7]
[]
[]
[]
[]
[]
[null,8]
[]
[]
[]
[]
[]
[null,9]
[]
[]
[]
[]
[null,null,null,null,null,null,null,null,null,null,null,null,"X"]
[null,10]
[]
[]
[]
[]
[]
[null,11]
[]
[]
[]
[]
[]
[null,12]
[]
[]
[]
[]
[]
[null,13]
[]
[]
[]
[]
[]
[null,14]
[]
[]
[]
[]
[]
[null,15]
[]
[]
[]
[]
[]
[null,16]
[]
[]
[]
[]
[]
[null,17]
[]
[]
[]
[]
[]
[null,18]
[]
[]
[]
[]
[]
[null,19]
[]
[]
[]
[]
[]
[null,20]
[]
[]
[]
[]
[]
[null,21]
[]
[]
[]
[]
[]
[null,22]
[]
[]
[]
[]
[]
[null,23]
[]
[]
[]
[]
[]
[null,24]
[]
[]
[]
[]
[]
[null,25]

{"sheet":"M10","index":24,"n_rows":167,"n_cols":14,"rows_kept":167,"cut":false,"hidden":true,"merged":[[1,1,1,3],[3,1,3,2],[4,1,4,2],[5,1,5,2],[6,1,6,2],[8,2,8,3],[9,2,9,3],[10,2,10,3],[11,2,11,3],[12,2,12,3],[13,2,13,3],[14,2,14,3],[15,2,15,3],[16,2,16,3],[17,2,17,3],[18,2,18,3],[19,4,19,13],[20,0,21,0],[20,1,21,2],[20,3,21,3],[22,1,27,1],[22,2,27,2],[34,1,39,1],[34,2,39,2],[28,1,33,1],[28,2,33,2],[40,1,45,1],[40,2,45,2],[46,1,51,1],[46,2,51,2],[52,1,57,1],[52,2,57,2],[58,1,63,1],[58,2,63,2],[64,1,69,1],[64,2,69,2],[70,1,75,1],[70,2,75,2],[76,1,81,1],[76,2,81,2],[82,1,87,1],[82,2,87,2],[88,1,93,1],[88,2,93,2],[94,1,99,1],[94,2,99,2],[100,1,105,1],[100,2,105,2],[106,1,111,1],[106,2,111,2],[112,1,117,1],[112,2,117,2],[118,1,123,1],[118,2,123,2],[124,1,129,1],[124,2,129,2],[130,1,135,1],[130,2,135,2],[136,1,141,1],[136,2,141,2],[172,4,172,13],[142,1,147,1],[142,2,147,2],[148,1,153,1],[148,2,153,2],[154,1,159,1],[154,2,159,2],[160,1,165,1],[160,2,165,2],[166,1,171,1],[166,2,171,2],[172,1,172,3]]}
[]
[null,"MÓDULO 10: \nDEFINICIÓN DE UNIDADES DE APRENDIZAJE (UA) PARA CADA MÓDULO"]
[]
[null,"ID:",null,{"$f":"'CE 1'!B19","v":""}]
[null,"NOMBRE:"]
[null,"PROPÓSITO:"]
[null,"TIPO:"]
[]
[null,"ID","UNIDADES DE APRENDIZAJE"]
[null,{"$f":"IF('M10'!$C10<>\"\",1,\"\")","v":""}]
[null,{"$f":"IF('M10'!$C11<>\"\",2,\"\")","v":""}]
[null,{"$f":"IF('M10'!$C12<>\"\",3,\"\")","v":""}]
[null,{"$f":"IF('M10'!$C13<>\"\",4,\"\")","v":""}]
[null,{"$f":"IF('M10'!$C14<>\"\",5,\"\")","v":""}]
[null,{"$f":"IF('M10'!$C15<>\"\",6,\"\")","v":""}]
[null,{"$f":"IF('M10'!$C16<>\"\",7,\"\")","v":""}]
[null,{"$f":"IF('M10'!$C17<>\"\",8,\"\")","v":""}]
[null,{"$f":"IF('M10'!$C18<>\"\",9,\"\")","v":""}]
[null,{"$f":"IF('M10'!$C19<>\"\",10,\"\")","v":""}]
[null,null,null,null,"Unidades Aprendizaje"]
[null,"CAPACIDADES PROCEDIMENTALES\n(hacer)",null,"ANÁLISIS DE CAPACIDADES \nPROCEDIMENTALES (hacer) PARA DEFINIR \nUNIDADES DE APRENDIZAJE"]
[null,null,null,null,{"$f":"B10","v":""},{"$f":"B11","v":""},{"$f":"B12","v":""},{"$f":"B13","v":""},{"$f":"B14","v":""},{"$f":"B15","v":""},{"$f":"B16","v":""},{"$f":"B17","v":""},{"$f":"B18","v":""},{"$f":"B19","v":""}]
[null,1]
[]
[]
[]
[]
[]
[null,2]
[]
[]
[]
[]
[]
[null,3]
[]
[]
[]
[]
[]
[null,4]
[]
[]
[]
[]
[]
[null,5]
[]
[]
[]
[]
[]
[null,6]
[]
[]
[]
[]
[]
[null,7]
[]
[]
[]
[]
[]
[null,8]
[]
[]
[]
[]
[]
[null,9]
[]
[]
[]
[]
[null,null,null,null,null,null,null,null,null,null,null,null,"X"]
[null,10]
[]
[]
[]
[]
[]
[null,11]
[]
[]
[]
[]
[]
[null,12]
[]
[]
[]
[]
[]
[null,13]
[]
[]
[]
[]
[]
[null,14]
[]
[]
[]
[]
[]
[null,15]
[]
[]
[]
[]
[]
[null,16]
[]
[]
[]
[]
[]
[null,17]
[]
[]
[]
[]
[]
[null,18]
[]
[]
[]
[]
[]
[null,19]
[]
[]
[]
[]
[]
[null,20]
[]
[]
[]
[]
[]
[null,21]
[]
[]
[]
[]
[]
[null,22]
[]
[]
[]
[]
[]
[null,23]
[]
[]
[]
[]
[]
[null,24]
[]
[]
[]
[]
[]
[null,25]

{"sheet":"M11","index":25,"n_rows":167,"n_cols":14,"rows_kept":167,"cut":false,"hidden":true,"merged":[[1,1,1,3],[3,1,3,2],[4,1,4,2],[5,1,5,2],[6,1,6,2],[8,2,8,3],[9,2,9,3],[10,2,10,3],[11,2,11,3],[12,2,12,3],[13,2,13,3],[14,2,14,3],[15,2,15,3],[16,2,16,3],[17,2,17,3],[18,2,18,3],[19,4,19,13],[20,0,21,0],[20,1,21,2],[20,3,21,3],[22,1,27,1],[22,2,27,2],[34,1,39,1],[34,2,39,2],[28,1,33,1],[28,2,33,2],[40,1,45,1],[40,2,45,2],[46,1,51,1],[46,2,51,2],[52,1,57,1],[52,2,57,2],[58,1,63,1],[58,2,63,2],[64,1,69,1],[64,2,69,2],[70,1,75,1],[70,2,75,2],[76,1,81,1],[76,2,81,2],[82,1,87,1],[82,2,87,2],[88,1,93,1],[88,2,93,2],[94,1,99,1],[94,2,99,2],[100,1,105,1],[100,2,105,2],[106,1,111,1],[106,2,111,2],[112,1,117,1],[112,2,117,2],[118,1,123,1],[118,2,123,2],[124,1,129,1],[124,2,129,2],[130,1,135,1],[130,2,135,2],[136,1,141,1],[136,2,141,2],[172,4,172,13],[142,1,147,1],[142,2,147,2],[148,1,153,1],[148,2,153,2],[154,1,159,1],[154,2,159,2],[160,1,165,1],[160,2,165,2],[166,1,171,1],[166,2,171,2],[172,1,172,3]]}
[]
[null,"MÓDULO 11: \nDEFINICIÓN DE UNIDADES DE APRENDIZAJE (UA) PARA CADA MÓDULO"]
[]
[null,"ID:",null,{"$f":"'CE 1'!B20","v":""}]
[null,"NOMBRE:"]
[null,"PROPÓSITO:"]
[null,"TIPO:"]
[]
[null,"ID","UNIDADES DE APRENDIZAJE"]
[null,{"$f":"IF('M11'!$C10<>\"\",1,\"\")","v":""}]
[null,{"$f":"IF('M11'!$C11<>\"\",2,\"\")","v":""}]
[null,{"$f":"IF('M11'!$C12<>\"\",3,\"\")","v":""}]
[null,{"$f":"IF('M11'!$C13<>\"\",4,\"\")","v":""}]
[null,{"$f":"IF('M11'!$C14<>\"\",5,\"\")","v":""}]
[null,{"$f":"IF('M11'!$C15<>\"\",6,\"\")","v":""}]
[null,{"$f":"IF('M11'!$C16<>\"\",7,\"\")","v":""}]
[null,{"$f":"IF('M11'!$C17<>\"\",8,\"\")","v":""}]
[null,{"$f":"IF('M11'!$C18<>\"\",9,\"\")","v":""}]
[null,{"$f":"IF('M11'!$C19<>\"\",10,\"\")","v":""}]
[null,null,null,null,"Unidades Aprendizaje"]
[null,"CAPACIDADES PROCEDIMENTALES\n(hacer)",null,"ANÁLISIS DE CAPACIDADES \nPROCEDIMENTALES (hacer) PARA DEFINIR \nUNIDADES DE APRENDIZAJE"]
[null,null,null,null,{"$f":"B10","v":""},{"$f":"B11","v":""},{"$f":"B12","v":""},{"$f":"B13","v":""},{"$f":"B14","v":""},{"$f":"B15","v":""},{"$f":"B16","v":""},{"$f":"B17","v":""},{"$f":"B18","v":""},{"$f":"B19","v":""}]
[null,1]
[]
[]
[]
[]
[]
[null,2]
[]
[]
[]
[]
[]
[null,3]
[]
[]
[]
[]
[]
[null,4]
[]
[]
[]
[]
[]
[null,5]
[]
[]
[]
[]
[]
[null,6]
[]
[]
[]
[]
[]
[null,7]
[]
[]
[]
[]
[]
[null,8]
[]
[]
[]
[]
[]
[null,9]
[]
[]
[]
[]
[null,null,null,null,null,null,null,null,null,null,null,null,"X"]
[null,10]
[]
[]
[]
[]
[]
[null,11]
[]
[]
[]
[]
[]
[null,12]
[]
[]
[]
[]
[]
[null,13]
[]
[]
[]
[]
[]
[null,14]
[]
[]
[]
[]
[]
[null,15]
[]
[]
[]
[]
[]
[null,16]
[]
[]
[]
[]
[]
[null,17]
[]
[]
[]
[]
[]
[null,18]
[]
[]
[]
[]
[]
[null,19]
[]
[]
[]
[]
[]
[null,20]
[]
[]
[]
[]
[]
[null,21]
[]
[]
[]
[]
[]
[null,22]
[]
[]
[]
[]
[]
[null,23]
[]
[]
[]
[]
[]
[null,24]
[]
[]
[]
[]
[]
[null,25]

{"sheet":"M12","index":26,"n_rows":167,"n_cols":14,"rows_kept":167,"cut":false,"hidden":true,"merged":[[1,1,1,3],[3,1,3,2],[4,1,4,2],[5,1,5,2],[6,1,6,2],[8,2,8,3],[9,2,9,3],[10,2,10,3],[11,2,11,3],[12,2,12,3],[13,2,13,3],[14,2,14,3],[15,2,15,3],[16,2,16,3],[17,2,17,3],[18,2,18,3],[19,4,19,13],[20,0,21,0],[20,1,21,2],[20,3,21,3],[22,1,27,1],[22,2,27,2],[34,1,39,1],[34,2,39,2],[28,1,33,1],[28,2,33,2],[40,1,45,1],[40,2,45,2],[46,1,51,1],[46,2,51,2],[52,1,57,1],[52,2,57,2],[58,1,63,1],[58,2,63,2],[64,1,69,1],[64,2,69,2],[70,1,75,1],[70,2,75,2],[76,1,81,1],[76,2,81,2],[82,1,87,1],[82,2,87,2],[88,1,93,1],[88,2,93,2],[94,1,99,1],[94,2,99,2],[100,1,105,1],[100,2,105,2],[106,1,111,1],[106,2,111,2],[112,1,117,1],[112,2,117,2],[118,1,123,1],[118,2,123,2],[124,1,129,1],[124,2,129,2],[130,1,135,1],[130,2,135,2],[136,1,141,1],[136,2,141,2],[172,4,172,13],[142,1,147,1],[142,2,147,2],[148,1,153,1],[148,2,153,2],[154,1,159,1],[154,2,159,2],[160,1,165,1],[160,2,165,2],[166,1,171,1],[166,2,171,2],[172,1,172,3]]}
[]
[null,"MÓDULO 12: \nDEFINICIÓN DE UNIDADES DE APRENDIZAJE (UA) PARA CADA MÓDULO"]
[]
[null,"ID:",null,{"$f":"'CE 1'!B21","v":""}]
[null,"NOMBRE:"]
[null,"PROPÓSITO:"]
[null,"TIPO:"]
[]
[null,"ID","UNIDADES DE APRENDIZAJE"]
[null,{"$f":"IF('M12'!$C10<>\"\",1,\"\")","v":""}]
[null,{"$f":"IF('M12'!$C11<>\"\",2,\"\")","v":""}]
[null,{"$f":"IF('M12'!$C12<>\"\",3,\"\")","v":""}]
[null,{"$f":"IF('M12'!$C13<>\"\",4,\"\")","v":""}]
[null,{"$f":"IF('M12'!$C14<>\"\",5,\"\")","v":""}]
[null,{"$f":"IF('M12'!$C15<>\"\",6,\"\")","v":""}]
[null,{"$f":"IF('M12'!$C16<>\"\",7,\"\")","v":""}]
[null,{"$f":"IF('M12'!$C17<>\"\",8,\"\")","v":""}]
[null,{"$f":"IF('M12'!$C18<>\"\",9,\"\")","v":""}]
[null,{"$f":"IF('M12'!$C19<>\"\",10,\"\")","v":""}]
[null,null,null,null,"Unidades Aprendizaje"]
[null,"CAPACIDADES PROCEDIMENTALES\n(hacer)",null,"ANÁLISIS DE CAPACIDADES \nPROCEDIMENTALES (hacer) PARA DEFINIR \nUNIDADES DE APRENDIZAJE"]
[null,null,null,null,{"$f":"B10","v":""},{"$f":"B11","v":""},{"$f":"B12","v":""},{"$f":"B13","v":""},{"$f":"B14","v":""},{"$f":"B15","v":""},{"$f":"B16","v":""},{"$f":"B17","v":""},{"$f":"B18","v":""},{"$f":"B19","v":""}]
[null,1]
[]
[]
[]
[]
[]
[null,2]
[]
[]
[]
[]
[]
[null,3]
[]
[]
[]
[]
[]
[null,4]
[]
[]
[]
[]
[]
[null,5]
[]
[]
[]
[]
[]
[null,6]
[]
[]
[]
[]
[]
[null,7]
[]
[]
[]
[]
[]
[null,8]
[]
[]
[]
[]
[]
[null,9]
[]
[]
[]
[]
[null,null,null,null,null,null,null,null,null,null,null,null,"X"]
[null,10]
[]
[]
[]
[]
[]
[null,11]
[]
[]
[]
[]
[]
[null,12]
[]
[]
[]
[]
[]
[null,13]
[]
[]
[]
[]
[]
[null,14]
[]
[]
[]
[]
[]
[null,15]
[]
[]
[]
[]
[]
[null,16]
[]
[]
[]
[]
[]
[null,17]
[]
[]
[]
[]
[]
[null,18]
[]
[]
[]
[]
[]
[null,19]
[]
[]
[]
[]
[]
[null,20]
[]
[]
[]
[]
[]
[null,21]
[]
[]
[]
[]
[]
[null,22]
[]
[]
[]
[]
[]
[null,23]
[]
[]
[]
[]
[]
[null,24]
[]
[]
[]
[]
[]
[null,25]

{"sheet":"M13","index":27,"n_rows":167,"n_cols":14,"rows_kept":167,"cut":false,"hidden":true,"merged":[[1,1,1,3],[3,1,3,2],[4,1,4,2],[5,1,5,2],[6,1,6,2],[8,2,8,3],[9,2,9,3],[10,2,10,3],[11,2,11,3],[12,2,12,3],[13,2,13,3],[14,2,14,3],[15,2,15,3],[16,2,16,3],[17,2,17,3],[18,2,18,3],[19,4,19,13],[20,0,21,0],[20,1,21,2],[20,3,21,3],[22,1,27,1],[22,2,27,2],[34,1,39,1],[34,2,39,2],[28,1,33,1],[28,2,33,2],[40,1,45,1],[40,2,45,2],[46,1,51,1],[46,2,51,2],[52,1,57,1],[52,2,57,2],[58,1,63,1],[58,2,63,2],[64,1,69,1],[64,2,69,2],[70,1,75,1],[70,2,75,2],[76,1,81,1],[76,2,81,2],[82,1,87,1],[82,2,87,2],[88,1,93,1],[88,2,93,2],[94,1,99,1],[94,2,99,2],[100,1,105,1],[100,2,105,2],[106,1,111,1],[106,2,111,2],[112,1,117,1],[112,2,117,2],[118,1,123,1],[118,2,123,2],[124,1,129,1],[124,2,129,2],[130,1,135,1],[130,2,135,2],[136,1,141,1],[136,2,141,2],[172,4,172,13],[142,1,147,1],[142,2,147,2],[148,1,153,1],[148,2,153,2],[154,1,159,1],[154,2,159,2],[160,1,165,1],[160,2,165,2],[166,1,171,1],[166,2,171,2],[172,1,172,3]]}
[]
[null,"MÓDULO 13: \nDEFINICIÓN DE UNIDADES DE APRENDIZAJE (UA) PARA CADA MÓDULO"]
[]
[null,"ID:",null,{"$f":"'CE 1'!B22","v":""}]
[null,"NOMBRE:"]
[null,"PROPÓSITO:"]
[null,"TIPO:"]
[]
[null,"ID","UNIDADES DE APRENDIZAJE"]
[null,{"$f":"IF('M13'!$C10<>\"\",1,\"\")","v":""}]
[null,{"$f":"IF('M13'!$C11<>\"\",2,\"\")","v":""}]
[null,{"$f":"IF('M13'!$C12<>\"\",3,\"\")","v":""}]
[null,{"$f":"IF('M13'!$C13<>\"\",4,\"\")","v":""}]
[null,{"$f":"IF('M13'!$C14<>\"\",5,\"\")","v":""}]
[null,{"$f":"IF('M13'!$C15<>\"\",6,\"\")","v":""}]
[null,{"$f":"IF('M13'!$C16<>\"\",7,\"\")","v":""}]
[null,{"$f":"IF('M13'!$C17<>\"\",8,\"\")","v":""}]
[null,{"$f":"IF('M13'!$C18<>\"\",9,\"\")","v":""}]
[null,{"$f":"IF('M13'!$C19<>\"\",10,\"\")","v":""}]
[null,null,null,null,"Unidades Aprendizaje"]
[null,"CAPACIDADES PROCEDIMENTALES\n(hacer)",null,"ANÁLISIS DE CAPACIDADES \nPROCEDIMENTALES (hacer) PARA DEFINIR \nUNIDADES DE APRENDIZAJE"]
[null,null,null,null,{"$f":"B10","v":""},{"$f":"B11","v":""},{"$f":"B12","v":""},{"$f":"B13","v":""},{"$f":"B14","v":""},{"$f":"B15","v":""},{"$f":"B16","v":""},{"$f":"B17","v":""},{"$f":"B18","v":""},{"$f":"B19","v":""}]
[null,1]
[]
[]
[]
[]
[]
[null,2]
[]
[]
[]
[]
[]
[null,3]
[]
[]
[]
[]
[]
[null,4]
[]
[]
[]
[]
[]
[null,5]
[]
[]
[]
[]
[]
[null,6]
[]
[]
[]
[]
[]
[null,7]
[]
[]
[]
[]
[]
[null,8]
[]
[]
[]
[]
[]
[null,9]
[]
[]
[]
[]
[null,null,null,null,null,null,null,null,null,null,null,null,"X"]
[null,10]
[]
[]
[]
[]
[]
[null,11]
[]
[]
[]
[]
[]
[null,12]
[]
[]
[]
[]
[]
[null,13]
[]
[]
[]
[]
[]
[null,14]
[]
[]
[]
[]
[]
[null,15]
[]
[]
[]
[]
[]
[null,16]
[]
[]
[]
[]
[]
[null,17]
[]
[]
[]
[]
[]
[null,18]
[]
[]
[]
[]
[]
[null,19]
[]
[]
[]
[]
[]
[null,20]
[]
[]
[]
[]
[]
[null,21]
[]
[]
[]
[]
[]
[null,22]
[]
[]
[]
[]
[]
[null,23]
[]
[]
[]
[]
[]
[null,24]
[]
[]
[]
[]
[]
[null,25]

{"sheet":"M14","index":28,"n_rows":167,"n_cols":14,"rows_kept":167,"cut":false,"hidden":true,"merged":[[1,1,1,3],[3,1,3,2],[4,1,4,2],[5,1,5,2],[6,1,6,2],[8,2,8,3],[9,2,9,3],[10,2,10,3],[11,2,11,3],[12,2,12,3],[13,2,13,3],[14,2,14,3],[15,2,15,3],[16,2,16,3],[17,2,17,3],[18,2,18,3],[19,4,19,13],[20,0,21,0],[20,1,21,2],[20,3,21,3],[22,1,27,1],[22,2,27,2],[34,1,39,1],[34,2,39,2],[28,1,33,1],[28,2,33,2],[40,1,45,1],[40,2,45,2],[46,1,51,1],[46,2,51,2],[52,1,57,1],[52,2,57,2],[58,1,63,1],[58,2,63,2],[64,1,69,1],[64,2,69,2],[70,1,75,1],[70,2,75,2],[76,1,81,1],[76,2,81,2],[82,1,87,1],[82,2,87,2],[88,1,93,1],[88,2,93,2],[94,1,99,1],[94,2,99,2],[100,1,105,1],[100,2,105,2],[106,1,111,1],[106,2,111,2],[112,1,117,1],[112,2,117,2],[118,1,123,1],[118,2,123,2],[124,1,129,1],[124,2,129,2],[130,1,135,1],[130,2,135,2],[136,1,141,1],[136,2,141,2],[172,4,172,13],[142,1,147,1],[142,2,147,2],[148,1,153,1],[148,2,153,2],[154,1,159,1],[154,2,159,2],[160,1,165,1],[160,2,165,2],[166,1,171,1],[166,2,171,2],[172,1,172,3]]}
[]
[null,"MÓDULO 14: \nDEFINICIÓN DE UNIDADES DE APRENDIZAJE (UA) PARA CADA MÓDULO"]
[]
[null,"ID:",null,{"$f":"'CE 1'!B23","v":14}]
[null,"NOMBRE:"]
[null,"PROPÓSITO:"]
[null,"TIPO:"]
[]
[null,"ID","UNIDADES DE APRENDIZAJE"]
[null,{"$f":"IF('M14'!$C10<>\"\",1,\"\")","v":""}]
[null,{"$f":"IF('M14'!$C11<>\"\",2,\"\")","v":""}]
[null,{"$f":"IF('M14'!$C12<>\"\",3,\"\")","v":""}]
[null,{"$f":"IF('M14'!$C13<>\"\",4,\"\")","v":""}]
[null,{"$f":"IF('M14'!$C14<>\"\",5,\"\")","v":""}]
[null,{"$f":"IF('M14'!$C15<>\"\",6,\"\")","v":""}]
[null,{"$f":"IF('M14'!$C16<>\"\",7,\"\")","v":""}]
[null,{"$f":"IF('M14'!$C17<>\"\",8,\"\")","v":""}]
[null,{"$f":"IF('M14'!$C18<>\"\",9,\"\")","v":""}]
[null,{"$f":"IF('M14'!$C19<>\"\",10,\"\")","v":""}]
[null,null,null,null,"Unidades Aprendizaje"]
[null,"CAPACIDADES PROCEDIMENTALES\n(hacer)",null,"ANÁLISIS DE CAPACIDADES \nPROCEDIMENTALES (hacer) PARA DEFINIR \nUNIDADES DE APRENDIZAJE"]
[null,null,null,null,{"$f":"B10","v":""},{"$f":"B11","v":""},{"$f":"B12","v":""},{"$f":"B13","v":""},{"$f":"B14","v":""},{"$f":"B15","v":""},{"$f":"B16","v":""},{"$f":"B17","v":""},{"$f":"B18","v":""},{"$f":"B19","v":""}]
[null,1]
[]
[]
[]
[]
[]
[null,2]
[]
[]
[]
[]
[]
[null,3]
[]
[]
[]
[]
[]
[null,4]
[]
[]
[]
[]
[]
[null,5]
[]
[]
[]
[]
[]
[null,6]
[]
[]
[]
[]
[]
[null,7]
[]
[]
[]
[]
[]
[null,8]
[]
[]
[]
[]
[]
[null,9]
[]
[]
[]
[]
[null,null,null,null,null,null,null,null,null,null,null,null,"X"]
[null,10]
[]
[]
[]
[]
[]
[null,11]
[]
[]
[]
[]
[]
[null,12]
[]
[]
[]
[]
[]
[null,13]
[]
[]
[]
[]
[]
[null,14]
[]
[]
[]
[]
[]
[null,15]
[]
[]
[]
[]
[]
[null,16]
[]
[]
[]
[]
[]
[null,17]
[]
[]
[]
[]
[]
[null,18]
[]
[]
[]
[]
[]
[null,19]
[]
[]
[]
[]
[]
[null,20]
[]
[]
[]
[]
[]
[null,21]
[]
[]
[]
[]
[]
[null,22]
[]
[]
[]
[]
[]
[null,23]
[]
[]
[]
[]
[]
[null,24]
[]
[]
[]
[]
[]
[null,25]

{"sheet":"M15","index":29,"n_rows":167,"n_cols":14,"rows_kept":167,"cut":false,"hidden":true,"merged":[[1,1,1,3],[3,1,3,2],[4,1,4,2],[5,1,5,2],[6,1,6,2],[8,2,8,3],[9,2,9,3],[10,2,10,3],[11,2,11,3],[12,2,12,3],[13,2,13,3],[14,2,14,3],[15,2,15,3],[16,2,16,3],[17,2,17,3],[18,2,18,3],[19,4,19,13],[20,0,21,0],[20,1,21,2],[20,3,21,3],[22,1,27,1],[22,2,27,2],[34,1,39,1],[34,2,39,2],[28,1,33,1],[28,2,33,2],[40,1,45,1],[40,2,45,2],[46,1,51,1],[46,2,51,2],[52,1,57,1],[52,2,57,2],[58,1,63,1],[58,2,63,2],[64,1,69,1],[64,2,69,2],[70,1,75,1],[70,2,75,2],[76,1,81,1],[76,2,81,2],[82,1,87,1],[82,2,87,2],[88,1,93,1],[88,2,93,2],[94,1,99,1],[94,2,99,2],[100,1,105,1],[100,2,105,2],[106,1,111,1],[106,2,111,2],[112,1,117,1],[112,2,117,2],[118,1,123,1],[118,2,123,2],[124,1,129,1],[124,2,129,2],[130,1,135,1],[130,2,135,2],[136,1,141,1],[136,2,141,2],[172,4,172,13],[142,1,147,1],[142,2,147,2],[148,1,153,1],[148,2,153,2],[154,1,159,1],[154,2,159,2],[160,1,165,1],[160,2,165,2],[166,1,171,1],[166,2,171,2],[172,1,172,3]]}
[]
[null,"MÓDULO 15: \nDEFINICIÓN DE UNIDADES DE APRENDIZAJE (UA) PARA CADA MÓDULO"]
[]
[null,"ID:",null,{"$f":"'CE 1'!B24","v":""}]
[null,"NOMBRE:"]
[null,"PROPÓSITO:"]
[null,"TIPO:"]
[]
[null,"ID","UNIDADES DE APRENDIZAJE"]
[null,{"$f":"IF('M15'!$C10<>\"\",1,\"\")","v":""}]
[null,{"$f":"IF('M15'!$C11<>\"\",2,\"\")","v":""}]
[null,{"$f":"IF('M15'!$C12<>\"\",3,\"\")","v":""}]
[null,{"$f":"IF('M15'!$C13<>\"\",4,\"\")","v":""}]
[null,{"$f":"IF('M15'!$C14<>\"\",5,\"\")","v":""}]
[null,{"$f":"IF('M15'!$C15<>\"\",6,\"\")","v":""}]
[null,{"$f":"IF('M15'!$C16<>\"\",7,\"\")","v":""}]
[null,{"$f":"IF('M15'!$C17<>\"\",8,\"\")","v":""}]
[null,{"$f":"IF('M15'!$C18<>\"\",9,\"\")","v":""}]
[null,{"$f":"IF('M15'!$C19<>\"\",10,\"\")","v":""}]
[null,null,null,null,"Unidades Aprendizaje"]
[null,"CAPACIDADES PROCEDIMENTALES\n(hacer)",null,"ANÁLISIS DE CAPACIDADES \nPROCEDIMENTALES (hacer) PARA DEFINIR \nUNIDADES DE APRENDIZAJE"]
[null,null,null,null,{"$f":"B10","v":""},{"$f":"B11","v":""},{"$f":"B12","v":""},{"$f":"B13","v":""},{"$f":"B14","v":""},{"$f":"B15","v":""},{"$f":"B16","v":""},{"$f":"B17","v":""},{"$f":"B18","v":""},{"$f":"B19","v":""}]
[null,1]
[]
[]
[]
[]
[]
[null,2]
[]
[]
[]
[]
[]
[null,3]
[]
[]
[]
[]
[]
[null,4]
[]
[]
[]
[]
[]
[null,5]
[]
[]
[]
[]
[]
[null,6]
[]
[]
[]
[]
[]
[null,7]
[]
[]
[]
[]
[]
[null,8]
[]
[]
[]
[]
[]
[null,9]
[]
[]
[]
[]
[null,null,null,null,null,null,null,null,null,null,null,null,"X"]
[null,10]
[]
[]
[]
[]
[]
[null,11]
[]
[]
[]
[]
[]
[null,12]
[]
[]
[]
[]
[]
[null,13]
[]
[]
[]
[]
[]
[null,14]
[]
[]
[]
[]
[]
[null,15]
[]
[]
[]
[]
[]
[null,16]
[]
[]
[]
[]
[]
[null,17]
[]
[]
[]
[]
[]
[null,18]
[]
[]
[]
[]
[]
[null,19]
[]
[]
[]
[]
[]
[null,20]
[]
[]
[]
[]
[]
[null,21]
[]
[]
[]
[]
[]
[null,22]
[]
[]
[]
[]
[]
[null,23]
[]
[]
[]
[]
[]
[null,24]
[]
[]
[]
[]
[]
[null,25]

{"sheet":"M16","index":30,"n_rows":167,"n_cols":14,"rows_kept":167,"cut":false,"hidden":true,"merged":[[1,1,1,3],[3,1,3,2],[4,1,4,2],[5,1,5,2],[6,1,6,2],[8,2,8,3],[9,2,9,3],[10,2,10,3],[11,2,11,3],[12,2,12,3],[13,2,13,3],[14,2,14,3],[15,2,15,3],[16,2,16,3],[17,2,17,3],[18,2,18,3],[19,4,19,13],[20,0,21,0],[20,1,21,2],[20,3,21,3],[22,1,27,1],[22,2,27,2],[34,1,39,1],[34,2,39,2],[28,1,33,1],[28,2,33,2],[40,1,45,1],[40,2,45,2],[46,1,51,1],[46,2,51,2],[52,1,57,1],[52,2,57,2],[58,1,63,1],[58,2,63,2],[64,1,69,1],[64,2,69,2],[70,1,75,1],[70,2,75,2],[76,1,81,1],[76,2,81,2],[82,1,87,1],[82,2,87,2],[88,1,93,1],[88,2,93,2],[94,1,99,1],[94,2,99,2],[100,1,105,1],[100,2,105,2],[106,1,111,1],[106,2,111,2],[112,1,117,1],[112,2,117,2],[118,1,123,1],[118,2,123,2],[124,1,129,1],[124,2,129,2],[130,1,135,1],[130,2,135,2],[136,1,141,1],[136,2,141,2],[172,4,172,13],[142,1,147,1],[142,2,147,2],[148,1,153,1],[148,2,153,2],[154,1,159,1],[154,2,159,2],[160,1,165,1],[160,2,165,2],[166,1,171,1],[166,2,171,2],[172,1,172,3]]}
[]
[null,"MÓDULO 16: \nDEFINICIÓN DE UNIDADES DE APRENDIZAJE (UA) PARA CADA MÓDULO"]
[]
[null,"ID:",null,{"$f":"'CE 1'!B25","v":""}]
[null,"NOMBRE:"]
[null,"PROPÓSITO:"]
[null,"TIPO:"]
[]
[null,"ID","UNIDADES DE APRENDIZAJE"]
[null,{"$f":"IF('M16'!$C10<>\"\",1,\"\")","v":""}]
[null,{"$f":"IF('M16'!$C11<>\"\",2,\"\")","v":""}]
[null,{"$f":"IF('M16'!$C12<>\"\",3,\"\")","v":""}]
[null,{"$f":"IF('M16'!$C13<>\"\",4,\"\")","v":""}]
[null,{"$f":"IF('M16'!$C14<>\"\",5,\"\")","v":""}]
[null,{"$f":"IF('M16'!$C15<>\"\",6,\"\")","v":""}]
[null,{"$f":"IF('M16'!$C16<>\"\",7,\"\")","v":""}]
[null,{"$f":"IF('M16'!$C17<>\"\",8,\"\")","v":""}]
[null,{"$f":"IF('M16'!$C18<>\"\",9,\"\")","v":""}]
[null,{"$f":"IF('M16'!$C19<>\"\",10,\"\")","v":""}]
[null,null,null,null,"Unidades Aprendizaje"]
[null,"CAPACIDADES PROCEDIMENTALES\n(hacer)",null,"ANÁLISIS DE CAPACIDADES \nPROCEDIMENTALES (hacer) PARA DEFINIR \nUNIDADES DE APRENDIZAJE"]
[null,null,null,null,{"$f":"B10","v":""},{"$f":"B11","v":""},{"$f":"B12","v":""},{"$f":"B13","v":""},{"$f":"B14","v":""},{"$f":"B15","v":""},{"$f":"B16","v":""},{"$f":"B17","v":""},{"$f":"B18","v":""},{"$f":"B19","v":""}]
[null,1]
[]
[]
[]
[]
[]
[null,2]
[]
[]
[]
[]
[]
[null,3]
[]
[]
[]
[]
[]
[null,4]
[]
[]
[]
[]
[]
[null,5]
[]
[]
[]
[]
[]
[null,6]
[]
[]
[]
[]
[]
[null,7]
[]
[]
[]
[]
[]
[null,8]
[]
[]
[]
[]
[]
[null,9]
[]
[]
[]
[]
[null,null,null,null,null,null,null,null,null,null,null,null,"X"]
[null,10]
[]
[]
[]
[]
[]
[null,11]
[]
[]
[]
[]
[]
[null,12]
[]
[]
[]
[]
[]
[null,13]
[]
[]
[]
[]
[]
[null,14]
[]
[]
[]
[]
[]
[null,15]
[]
[]
[]
[]
[]
[null,16]
[]
[]
[]
[]
[]
[null,17]
[]
[]
[]
[]
[]
[null,18]
[]
[]
[]
[]
[]
[null,19]
[]
[]
[]
[]
[]
[null,20]
[]
[]
[]
[]
[]
[null,21]
[]
[]
[]
[]
[]
[null,22]
[]
[]
[]
[]
[]
[null,23]
[]
[]
[]
[]
[]
[null,24]
[]
[]
[]
[]
[]
[null,25]

{"sheet":"M17","index":31,"n_rows":167,"n_cols":14,"rows_kept":167,"cut":false,"hidden":true,"merged":[[1,1,1,3],[3,1,3,2],[4,1,4,2],[5,1,5,2],[6,1,6,2],[8,2,8,3],[9,2,9,3],[10,2,10,3],[11,2,11,3],[12,2,12,3],[13,2,13,3],[14,2,14,3],[15,2,15,3],[16,2,16,3],[17,2,17,3],[18,2,18,3],[19,4,19,13],[20,0,21,0],[20,1,21,2],[20,3,21,3],[22,1,27,1],[22,2,27,2],[34,1,39,1],[34,2,39,2],[28,1,33,1],[28,2,33,2],[40,1,45,1],[40,2,45,2],[46,1,51,1],[46,2,51,2],[52,1,57,1],[52,2,57,2],[58,1,63,1],[58,2,63,2],[64,1,69,1],[64,2,69,2],[70,1,75,1],[70,2,75,2],[76,1,81,1],[76,2,81,2],[82,1,87,1],[82,2,87,2],[88,1,93,1],[88,2,93,2],[94,1,99,1],[94,2,99,2],[100,1,105,1],[100,2,105,2],[106,1,111,1],[106,2,111,2],[112,1,117,1],[112,2,117,2],[118,1,123,1],[118,2,123,2],[124,1,129,1],[124,2,129,2],[130,1,135,1],[130,2,135,2],[136,1,141,1],[136,2,141,2],[172,4,172,13],[142,1,147,1],[142,2,147,2],[148,1,153,1],[148,2,153,2],[154,1,159,1],[154,2,159,2],[160,1,165,1],[160,2,165,2],[166,1,171,1],[166,2,171,2],[172,1,172,3]]}
[]
[null,"MÓDULO 17: \nDEFINICIÓN DE UNIDADES DE APRENDIZAJE (UA) PARA CADA MÓDULO"]
[]
[null,"ID:",null,{"$f":"'CE 1'!B26","v":""}]
[null,"NOMBRE:"]
[null,"PROPÓSITO:"]
[null,"TIPO:"]
[]
[null,"ID","UNIDADES DE APRENDIZAJE"]
[null,{"$f":"IF('M17'!$C10<>\"\",1,\"\")","v":""}]
[null,{"$f":"IF('M17'!$C11<>\"\",2,\"\")","v":""}]
[null,{"$f":"IF('M17'!$C12<>\"\",3,\"\")","v":""}]
[null,{"$f":"IF('M17'!$C13<>\"\",4,\"\")","v":""}]
[null,{"$f":"IF('M17'!$C14<>\"\",5,\"\")","v":""}]
[null,{"$f":"IF('M17'!$C15<>\"\",6,\"\")","v":""}]
[null,{"$f":"IF('M17'!$C16<>\"\",7,\"\")","v":""}]
[null,{"$f":"IF('M17'!$C17<>\"\",8,\"\")","v":""}]
[null,{"$f":"IF('M17'!$C18<>\"\",9,\"\")","v":""}]
[null,{"$f":"IF('M17'!$C19<>\"\",10,\"\")","v":""}]
[null,null,null,null,"Unidades Aprendizaje"]
[null,"CAPACIDADES PROCEDIMENTALES\n(hacer)",null,"ANÁLISIS DE CAPACIDADES \nPROCEDIMENTALES (hacer) PARA DEFINIR \nUNIDADES DE APRENDIZAJE"]
[null,null,null,null,{"$f":"B10","v":""},{"$f":"B11","v":""},{"$f":"B12","v":""},{"$f":"B13","v":""},{"$f":"B14","v":""},{"$f":"B15","v":""},{"$f":"B16","v":""},{"$f":"B17","v":""},{"$f":"B18","v":""},{"$f":"B19","v":""}]
[null,1]
[]
[]
[]
[]
[]
[null,2]
[]
[]
[]
[]
[]
[null,3]
[]
[]
[]
[]
[]
[null,4]
[]
[]
[]
[]
[]
[null,5]
[]
[]
[]
[]
[]
[null,6]
[]
[]
[]
[]
[]
[null,7]
[]
[]
[]
[]
[]
[null,8]
[]
[]
[]
[]
[]
[null,9]
[]
[]
[]
[]
[null,null,null,null,null,null,null,null,null,null,null,null,"X"]
[null,10]
[]
[]
[]
[]
[]
[null,11]
[]
[]
[]
[]
[]
[null,12]
[]
[]
[]
[]
[]
[null,13]
[]
[]
[]
[]
[]
[null,14]
[]
[]
[]
[]
[]
[null,15]
[]
[]
[]
[]
[]
[null,16]
[]
[]
[]
[]
[]
[null,17]
[]
[]
[]
[]
[]
[null,18]
[]
[]
[]
[]
[]
[null,19]
[]
[]
[]
[]
[]
[null,20]
[]
[]
[]
[]
[]
[null,21]
[]
[]
[]
[]
[]
[null,22]
[]
[]
[]
[]
[]
[null,23]
[]
[]
[]
[]
[]
[null,24]
[]
[]
[]
[]
[]
[null,25]

{"sheet":"M18","index":32,"n_rows":167,"n_cols":14,"rows_kept":167,"cut":false,"hidden":true,"merged":[[1,1,1,3],[3,1,3,2],[4,1,4,2],[5,1,5,2],[6,1,6,2],[8,2,8,3],[9,2,9,3],[10,2,10,3],[11,2,11,3],[12,2,12,3],[13,2,13,3],[14,2,14,3],[15,2,15,3],[16,2,16,3],[17,2,17,3],[18,2,18,3],[19,4,19,13],[20,0,21,0],[20,1,21,2],[20,3,21,3],[22,1,27,1],[22,2,27,2],[34,1,39,1],[34,2,39,2],[28,1,33,1],[28,2,33,2],[40,1,45,1],[40,2,45,2],[46,1,51,1],[46,2,51,2],[52,1,57,1],[52,2,57,2],[58,1,63,1],[58,2,63,2],[64,1,69,1],[64,2,69,2],[70,1,75,1],[70,2,75,2],[76,1,81,1],[76,2,81,2],[82,1,87,1],[82,2,87,2],[88,1,93,1],[88,2,93,2],[94,1,99,1],[94,2,99,2],[100,1,105,1],[100,2,105,2],[106,1,111,1],[106,2,111,2],[112,1,117,1],[112,2,117,2],[118,1,123,1],[118,2,123,2],[124,1,129,1],[124,2,129,2],[130,1,135,1],[130,2,135,2],[136,1,141,1],[136,2,141,2],[172,4,172,13],[142,1,147,1],[142,2,147,2],[148,1,153,1],[148,2,153,2],[154,1,159,1],[154,2,159,2],[160,1,165,1],[160,2,165,2],[166,1,171,1],[166,2,171,2],[172,1,172,3]]}
[]
[null,"MÓDULO 18: \nDEFINICIÓN DE UNIDADES DE APRENDIZAJE (UA) PARA CADA MÓDULO"]
[]
[null,"ID:",null,{"$f":"'CE 1'!B27","v":""}]
[null,"NOMBRE:"]
[null,"PROPÓSITO:"]
[null,"TIPO:"]
[]
[null,"ID","UNIDADES DE APRENDIZAJE"]
[null,{"$f":"IF('M18'!$C10<>\"\",1,\"\")","v":""}]
[null,{"$f":"IF('M18'!$C11<>\"\",2,\"\")","v":""}]
[null,{"$f":"IF('M18'!$C12<>\"\",3,\"\")","v":""}]
[null,{"$f":"IF('M18'!$C13<>\"\",4,\"\")","v":""}]
[null,{"$f":"IF('M18'!$C14<>\"\",5,\"\")","v":""}]
[null,{"$f":"IF('M18'!$C15<>\"\",6,\"\")","v":""}]
[null,{"$f":"IF('M18'!$C16<>\"\",7,\"\")","v":""}]
[null,{"$f":"IF('M18'!$C17<>\"\",8,\"\")","v":""}]
[null,{"$f":"IF('M18'!$C18<>\"\",9,\"\")","v":""}]
[null,{"$f":"IF('M18'!$C19<>\"\",10,\"\")","v":""}]
[null,null,null,null,"Unidades Aprendizaje"]
[null,"CAPACIDADES PROCEDIMENTALES\n(hacer)",null,"ANÁLISIS DE CAPACIDADES \nPROCEDIMENTALES (hacer) PARA DEFINIR \nUNIDADES DE APRENDIZAJE"]
[null,null,null,null,{"$f":"B10","v":""},{"$f":"B11","v":""},{"$f":"B12","v":""},{"$f":"B13","v":""},{"$f":"B14","v":""},{"$f":"B15","v":""},{"$f":"B16","v":""},{"$f":"B17","v":""},{"$f":"B18","v":""},{"$f":"B19","v":""}]
[null,1]
[]
[]
[]
[]
[]
[null,2]
[]
[]
[]
[]
[]
[null,3]
[]
[]
[]
[]
[]
[null,4]
[]
[]
[]
[]
[]
[null,5]
[]
[]
[]
[]
[]
[null,6]
[]
[]
[]
[]
[]
[null,7]
[]
[]
[]
[]
[]
[null,8]
[]
[]
[]
[]
[]
[null,9]
[]
[]
[]
[]
[null,null,null,null,null,null,null,null,null,null,null,null,"X"]
[null,10]
[]
[]
[]
[]
[]
[null,11]
[]
[]
[]
[]
[]
[null,12]
[]
[]
[]
[]
[]
[null,13]
[]
[]
[]
[]
[]
[null,14]
[]
[]
[]
[]
[]
[null,15]
[]
[]
[]
[]
[]
[null,16]
[]
[]
[]
[]
[]
[null,17]
[]
[]
[]
[]
[]
[null,18]
[]
[]
[]
[]
[]
[null,19]
[]
[]
[]
[]
[]
[null,20]
[]
[]
[]
[]
[]
[null,21]
[]
[]
[]
[]
[]
[null,22]
[]
[]
[]
[]
[]
[null,23]
[]
[]
[]
[]
[]
[null,24]
[]
[]
[]
[]
[]
[null,25]

{"sheet":"M19","index":33,"n_rows":167,"n_cols":14,"rows_kept":167,"cut":false,"hidden":true,"merged":[[172,4,172,13],[142,1,147,1],[142,2,147,2],[148,1,153,1],[148,2,153,2],[154,1,159,1],[154,2,159,2],[160,1,165,1],[160,2,165,2],[166,1,171,1],[166,2,171,2],[172,1,172,3],[124,1,129,1],[124,2,129,2],[130,1,135,1],[130,2,135,2],[136,1,141,1],[136,2,141,2],[106,1,111,1],[106,2,111,2],[112,1,117,1],[112,2,117,2],[118,1,123,1],[118,2,123,2],[88,1,93,1],[88,2,93,2],[94,1,99,1],[94,2,99,2],[100,1,105,1],[100,2,105,2],[70,1,75,1],[70,2,75,2],[76,1,81,1],[76,2,81,2],[82,1,87,1],[82,2,87,2],[52,1,57,1],[52,2,57,2],[58,1,63,1],[58,2,63,2],[64,1,69,1],[64,2,69,2],[34,1,39,1],[34,2,39,2],[40,1,45,1],[40,2,45,2],[46,1,51,1],[46,2,51,2],[20,0,21,0],[20,1,21,2],[20,3,21,3],[22,1,27,1],[22,2,27,2],[28,1,33,1],[28,2,33,2],[14,2,14,3],[15,2,15,3],[16,2,16,3],[17,2,17,3],[18,2,18,3],[19,4,19,13],[8,2,8,3],[9,2,9,3],[10,2,10,3],[11,2,11,3],[12,2,12,3],[13,2,13,3],[1,1,1,3],[3,1,3,2],[4,1,4,2],[5,1,5,2],[6,1,6,2]]}
[]
[null,"MÓDULO 19: \nDEFINICIÓN DE UNIDADES DE APRENDIZAJE (UA) PARA CADA MÓDULO"]
[]
[null,"ID:",null,{"$f":"'CE 1'!B10","v":1}]
[null,"NOMBRE:"]
[null,"PROPÓSITO:"]
[null,"TIPO:"]
[]
[null,"ID","UNIDADES DE APRENDIZAJE"]
[null,{"$f":"IF('M19'!$C10<>\"\",1,\"\")","v":""}]
[null,{"$f":"IF('M19'!$C11<>\"\",2,\"\")","v":""}]
[null,{"$f":"IF('M19'!$C12<>\"\",3,\"\")","v":""}]
[null,{"$f":"IF('M19'!$C13<>\"\",4,\"\")","v":""}]
[null,{"$f":"IF('M19'!$C14<>\"\",5,\"\")","v":""}]
[null,{"$f":"IF('M19'!$C15<>\"\",6,\"\")","v":""}]
[null,{"$f":"IF('M19'!$C16<>\"\",7,\"\")","v":""}]
[null,{"$f":"IF('M19'!$C17<>\"\",8,\"\")","v":""}]
[null,{"$f":"IF('M19'!$C18<>\"\",9,\"\")","v":""}]
[null,{"$f":"IF('M19'!$C19<>\"\",10,\"\")","v":""}]
[null,null,null,null,"Unidades Aprendizaje"]
[null,"CAPACIDADES PROCEDIMENTALES\n(hacer)",null,"ANÁLISIS DE CAPACIDADES \nPROCEDIMENTALES (hacer) PARA DEFINIR \nUNIDADES DE APRENDIZAJE"]
[null,null,null,null,{"$f":"B10","v":""},{"$f":"B11","v":""},{"$f":"B12","v":""},{"$f":"B13","v":""},{"$f":"B14","v":""},{"$f":"B15","v":""},{"$f":"B16","v":""},{"$f":"B17","v":""},{"$f":"B18","v":""},{"$f":"B19","v":""}]
[null,1]
[]
[]
[]
[]
[]
[null,2]
[]
[]
[]
[]
[]
[null,3]
[]
[]
[]
[]
[]
[null,4]
[]
[]
[]
[]
[]
[null,5]
[]
[]
[]
[]
[]
[null,6]
[]
[]
[]
[]
[]
[null,7]
[]
[]
[]
[]
[]
[null,8]
[]
[]
[]
[]
[]
[null,9]
[]
[]
[]
[]
[null,null,null,null,null,null,null,null,null,null,null,null,"X"]
[null,10]
[]
[]
[]
[]
[]
[null,11]
[]
[]
[]
[]
[]
[null,12]
[]
[]
[]
[]
[]
[null,13]
[]
[]
[]
[]
[]
[null,14]
[]
[]
[]
[]
[]
[null,15]
[]
[]
[]
[]
[]
[null,16]
[]
[]
[]
[]
[]
[null,17]
[]
[]
[]
[]
[]
[null,18]
[]
[]
[]
[]
[]
[null,19]
[]
[]
[]
[]
[]
[null,20]
[]
[]
[]
[]
[]
[null,21]
[]
[]
[]
[]
[]
[null,22]
[]
[]
[]
[]
[]
[null,23]
[]
[]
[]
[]
[]
[null,24]
[]
[]
[]
[]
[]
[null,25]

{"sheet":"M20","index":34,"n_rows":167,"n_cols":14,"rows_kept":167,"cut":false,"hidden":true,"merged":[[172,4,172,13],[142,1,147,1],[142,2,147,2],[148,1,153,1],[148,2,153,2],[154,1,159,1],[154,2,159,2],[160,1,165,1],[160,2,165,2],[166,1,171,1],[166,2,171,2],[172,1,172,3],[124,1,129,1],[124,2,129,2],[130,1,135,1],[130,2,135,2],[136,1,141,1],[136,2,141,2],[106,1,111,1],[106,2,111,2],[112,1,117,1],[112,2,117,2],[118,1,123,1],[118,2,123,2],[88,1,93,1],[88,2,93,2],[94,1,99,1],[94,2,99,2],[100,1,105,1],[100,2,105,2],[70,1,75,1],[70,2,75,2],[76,1,81,1],[76,2,81,2],[82,1,87,1],[82,2,87,2],[52,1,57,1],[52,2,57,2],[58,1,63,1],[58,2,63,2],[64,1,69,1],[64,2,69,2],[34,1,39,1],[34,2,39,2],[40,1,45,1],[40,2,45,2],[46,1,51,1],[46,2,51,2],[20,0,21,0],[20,1,21,2],[20,3,21,3],[22,1,27,1],[22,2,27,2],[28,1,33,1],[28,2,33,2],[14,2,14,3],[15,2,15,3],[16,2,16,3],[17,2,17,3],[18,2,18,3],[19,4,19,13],[8,2,8,3],[9,2,9,3],[10,2,10,3],[11,2,11,3],[12,2,12,3],[13,2,13,3],[1,1,1,3],[3,1,3,2],[4,1,4,2],[5,1,5,2],[6,1,6,2]]}
[]
[null,"MÓDULO 20: \nDEFINICIÓN DE UNIDADES DE APRENDIZAJE (UA) PARA CADA MÓDULO"]
[]
[null,"ID:",null,{"$f":"'CE 1'!B10","v":1}]
[null,"NOMBRE:"]
[null,"PROPÓSITO:"]
[null,"TIPO:"]
[]
[null,"ID","UNIDADES DE APRENDIZAJE"]
[null,{"$f":"IF('M20'!$C10<>\"\",1,\"\")","v":""}]
[null,{"$f":"IF('M20'!$C11<>\"\",2,\"\")","v":""}]
[null,{"$f":"IF('M20'!$C12<>\"\",3,\"\")","v":""}]
[null,{"$f":"IF('M20'!$C13<>\"\",4,\"\")","v":""}]
[null,{"$f":"IF('M20'!$C14<>\"\",5,\"\")","v":""}]
[null,{"$f":"IF('M20'!$C15<>\"\",6,\"\")","v":""}]
[null,{"$f":"IF('M20'!$C16<>\"\",7,\"\")","v":""}]
[null,{"$f":"IF('M20'!$C17<>\"\",8,\"\")","v":""}]
[null,{"$f":"IF('M20'!$C18<>\"\",9,\"\")","v":""}]
[null,{"$f":"IF('M20'!$C19<>\"\",10,\"\")","v":""}]
[null,null,null,null,"Unidades Aprendizaje"]
[null,"CAPACIDADES PROCEDIMENTALES\n(hacer)",null,"ANÁLISIS DE CAPACIDADES \nPROCEDIMENTALES (hacer) PARA DEFINIR \nUNIDADES DE APRENDIZAJE"]
[null,null,null,null,{"$f":"B10","v":""},{"$f":"B11","v":""},{"$f":"B12","v":""},{"$f":"B13","v":""},{"$f":"B14","v":""},{"$f":"B15","v":""},{"$f":"B16","v":""},{"$f":"B17","v":""},{"$f":"B18","v":""},{"$f":"B19","v":""}]
[null,1]
[]
[]
[]
[]
[]
[null,2]
[]
[]
[]
[]
[]
[null,3]
[]
[]
[]
[]
[]
[null,4]
[]
[]
[]
[]
[]
[null,5]
[]
[]
[]
[]
[]
[null,6]
[]
[]
[]
[]
[]
[null,7]
[]
[]
[]
[]
[]
[null,8]
[]
[]
[]
[]
[]
[null,9]
[]
[]
[]
[]
[null,null,null,null,null,null,null,null,null,null,null,null,"X"]
[null,10]
[]
[]
[]
[]
[]
[null,11]
[]
[]
[]
[]
[]
[null,12]
[]
[]
[]
[]
[]
[null,13]
[]
[]
[]
[]
[]
[null,14]
[]
[]
[]
[]
[]
[null,15]
[]
[]
[]
[]
[]
[null,16]
[]
[]
[]
[]
[]
[null,17]
[]
[]
[]
[]
[]
[null,18]
[]
[]
[]
[]
[]
[null,19]
[]
[]
[]
[]
[]
[null,20]
[]
[]
[]
[]
[]
[null,21]
[]
[]
[]
[]
[]
[null,22]
[]
[]
[]
[]
[]
[null,23]
[]
[]
[]
[]
[]
[null,24]
[]
[]
[]
[]
[]
[null,25]

{"sheet":"Capacidades","index":35,"n_rows":47,"n_cols":24,"rows_kept":47,"cut":false,"hidden":false,"merged":[[7,4,7,23],[27,2,28,3],[27,4,27,23],[45,2,45,23],[1,2,1,3],[9,2,10,3],[3,2,3,3],[5,2,5,3],[9,4,9,23],[25,2,25,3],[21,2,21,3],[22,2,22,3],[23,2,23,3],[24,2,24,3],[13,2,13,3],[7,2,7,3],[40,2,40,3],[11,1,25,1],[29,1,43,1],[41,2,41,3],[42,2,42,3],[43,2,43,3],[11,2,11,3],[12,2,12,3],[29,2,29,3],[30,2,30,3],[38,2,38,3],[39,2,39,3],[14,2,14,3],[15,2,15,3],[16,2,16,3],[17,2,17,3],[18,2,18,3],[19,2,19,3],[20,2,20,3],[31,2,31,3],[32,2,32,3],[33,2,33,3],[34,2,34,3],[35,2,35,3],[36,2,36,3],[37,2,37,3]]}
[]
[null,null,"DISTRIBUCIÓN CAPACIDADES DEL SER Y CONVIVIR"]
[]
[null,null,"ESTÁNDAR CUALIFICACIÓN (EC): "]
[]
[null,null,"CÓDIGO EC:"]
[]
[null,null,"NOMBRE DEL PROGRAMA:",null,{"$f":"Mapa!B12","v":0}]
[]
[null,null,"Capacidades Actitudinales",null,"DISTRIBUCIÓN EN LOS MÓDULOS"]
[null,null,null,null,1,2,3,4,5,6,7,8,9,10,11,12,13,14,15,16,17,18,19,20]
[null,"SER"]
[]
[]
[]
[]
[]
[]
[]
[]
[]
[]
[]
[]
[]
[]
[]
[null,null,"Habilidades Transversales",null,"DISTRIBUCIÓN EN LOS MÓDULOS"]
[null,null,null,null,1,2,3,4,5,6,7,8,9,10,11,12,13,14,15,16,17,18,19,20]
[null,"CONVIVIR"]
[]
[]
[]
[]
[]
[]
[]
[]
[]
[]
[]
[]
[]
[]
[null,null,null,null,{"$f":"COUNTA(E12:E26)","v":0},{"$f":"COUNTA(F12:F26)","v":0},0,0,0,0,0,0,0,0,0,0,0,0,0,0,0,0,0,0]
[null,null,"Nota: Por una decisión técnica-curricular, pueden agregarse más capacidades adicionales  a las contempladas en el EC y sus correspondientes valores asociados. "]
[null,null,null,null,{"$f":"COUNTA(E30:E44)","v":0},{"$f":"COUNTA(F30:F44)","v":0},0,0,0,0,0,0,0,0,0,0,0,0,0,0,0,0,0,0]